{"text_format":"3","workbook":"xlsx","n_sheets":13,"sheets":["入力シート","(1枚目)設計書","(2枚目)設計書","旧裏面資料","動作ログ","改定履歴","コード変換","単項目チェック一覧","関連項目チェック一覧","平面図","引込線立面図","マスタデータ1","マスタデータ2"],"not_rendered":{"macros":1,"defined_names":83,"comments":3},"read":"whole","date_system":"1900"}

{"sheet":"入力シート","index":0,"n_rows":127,"n_cols":32,"rows_kept":127,"merged":[[0,0,2,32],[4,1,4,16],[5,1,5,16],[6,1,6,16],[8,6,8,8],[13,1,13,16],[15,1,15,16],[19,1,19,6],[19,9,19,10],[19,11,19,12],[19,13,19,14],[19,15,19,16],[19,17,19,18],[19,19,19,20],[21,1,21,2],[21,3,21,4],[21,5,21,6],[21,7,21,8],[21,9,21,10],[21,11,21,12],[24,1,24,5],[24,7,24,11],[25,1,25,2],[25,3,25,4],[25,7,25,8],[25,9,25,10],[30,1,30,3],[30,5,30,7],[30,9,30,11],[30,12,30,15],[30,16,30,18],[31,1,31,3],[31,5,31,7],[31,12,32,13],[31,14,31,15],[31,16,31,18],[32,1,32,3],[32,5,32,7],[32,14,32,15],[32,16,32,18],[33,12,33,15],[33,16,33,18],[35,0,83,0],[35,1,38,1],[35,2,38,2],[35,3,38,3],[35,4,35,13],[35,14,38,14],[35,15,38,17],[35,18,35,19],[35,20,38,20],[35,21,35,24],[36,4,38,4],[36,5,36,7],[36,8,38,8],[36,9,38,9],[36,10,38,10],[36,11,38,11],[36,12,38,13],[36,18,38,18],[36,19,38,19],[36,21,38,21],[36,22,38,22],[36,23,38,23],[36,24,38,24],[37,5,37,6],[37,7,38,7],[39,1,43,1],[39,2,43,2],[39,3,43,3],[39,4,43,4],[39,5,43,5],[39,6,43,6],[39,7,43,7],[39,8,43,8],[39,9,43,9],[39,10,43,10],[39,11,43,11],[39,12,43,12],[39,13,43,13],[39,14,43,14],[39,15,43,15],[39,16,43,16],[39,17,43,17],[39,18,43,18],[39,19,43,19],[39,20,43,20],[39,21,43,21],[39,22,43,22],[39,23,43,23],[39,24,43,24],[44,1,48,1],[44,2,48,2],[44,3,48,3],[44,4,48,4],[44,5,48,5],[44,6,48,6],[44,7,48,7],[44,8,48,8],[44,9,48,9],[44,10,48,10],[44,11,48,11],[44,12,48,12],[44,13,48,13],[44,14,48,14],[44,15,48,15],[44,16,48,16],[44,17,48,17],[44,18,48,18],[44,19,48,19],[44,20,48,20],[44,21,48,21],[44,22,48,22],[44,23,48,23],[44,24,48,24],[49,1,53,1],[49,2,53,2],[49,3,53,3],[49,4,53,4],[49,5,53,5],[49,6,53,6],[49,7,53,7],[49,8,53,8],[49,9,53,9],[49,10,53,10],[49,11,53,11],[49,12,53,12],[49,13,53,13],[49,14,53,14],[49,15,53,15],[49,16,53,16],[49,17,53,17],[49,18,53,18],[49,19,53,19],[49,20,53,20],[49,21,53,21],[49,22,53,22],[49,23,53,23],[49,24,53,24],[54,1,58,1],[54,2,58,2],[54,3,58,3],[54,4,58,4],[54,5,58,5],[54,6,58,6],[54,7,58,7],[54,8,58,8],[54,9,58,9],[54,10,58,10],[54,11,58,11],[54,12,58,12],[54,13,58,13],[54,14,58,14],[54,15,58,15],[54,16,58,16],[54,17,58,17],[54,18,58,18],[54,19,58,19],[54,20,58,20],[54,21,58,21],[54,22,58,22],[54,23,58,23],[54,24,58,24],[59,1,63,1],[59,2,63,2],[59,3,63,3],[59,4,63,4],[59,5,63,5],[59,6,63,6],[59,7,63,7],[59,8,63,8],[59,9,63,9],[59,10,63,10],[59,11,63,11],[59,12,63,12],[59,13,63,13],[59,14,63,14],[59,15,63,15],[59,16,63,16],[59,17,63,17],[59,18,63,18],[59,19,63,19],[59,20,63,20],[59,21,63,21],[59,22,63,22],[59,23,63,23],[59,24,63,24],[64,1,68,1],[64,2,68,2],[64,3,68,3],[64,4,68,4],[64,5,68,5],[64,6,68,6],[64,7,68,7],[64,8,68,8],[64,9,68,9],[64,10,68,10],[64,11,68,11],[64,12,68,12],[64,13,68,13],[64,14,68,14],[64,15,68,15],[64,16,68,16],[64,17,68,17],[64,18,68,18],[64,19,68,19],[64,20,68,20],[64,21,68,21],[64,22,68,22],[64,23,68,23],[64,24,68,24],[69,1,73,1],[69,2,73,2],[69,3,73,3],[69,4,73,4],[69,5,73,5],[69,6,73,6],[69,7,73,7],[69,8,73,8],[69,9,73,9],[69,10,73,10],[69,11,73,11],[69,12,73,12],[69,13,73,13],[69,14,73,14],[69,15,73,15],[69,16,73,16],[69,17,73,17],[69,18,73,18],[69,19,73,19],[69,20,73,20],[69,21,73,21],[69,22,73,22],[69,23,73,23],[69,24,73,24],[74,1,78,1],[74,2,78,2],[74,3,78,3],[74,4,78,4],[74,5,78,5],[74,6,78,6],[74,7,78,7],[74,8,78,8],[74,9,78,9],[74,10,78,10],[74,11,78,11],[74,12,78,12],[74,13,78,13],[74,14,78,14],[74,15,78,15],[74,16,78,16],[74,17,78,17],[74,18,78,18],[74,19,78,19],[74,20,78,20],[74,21,78,21],[74,22,78,22],[74,23,78,23],[74,24,78,24],[79,1,83,1],[79,2,83,2],[79,3,83,3],[79,4,83,4],[79,5,83,5],[79,6,83,6],[79,7,83,7],[79,8,83,8],[79,9,83,9],[79,10,83,10],[79,11,83,11],[79,12,83,12],[79,13,83,13],[79,14,83,14],[79,15,83,15],[79,16,83,16],[79,17,83,17],[79,18,83,18],[79,19,83,19],[79,20,83,20],[79,21,83,21],[79,22,83,22],[79,23,83,23],[79,24,83,24],[87,0,130,0],[87,1,90,1],[87,2,90,2],[87,3,90,3],[87,4,87,6],[87,7,87,11],[87,12,87,15],[87,16,87,22],[87,23,87,26],[87,27,90,27],[87,28,90,28],[87,29,90,29],[87,30,90,30],[87,31,90,31],[88,4,90,4],[88,5,90,5],[88,6,90,6],[88,7,90,7],[88,8,90,8],[88,9,90,9],[88,10,90,11],[88,12,90,12],[88,13,90,13],[88,14,90,14],[88,15,90,15],[88,16,90,16],[88,17,90,17],[88,18,90,18],[88,19,90,19],[88,20,90,20],[88,21,90,22],[88,23,90,23],[88,24,90,24],[88,25,88,26],[89,25,90,25],[89,26,90,26],[91,1,95,1],[91,2,95,2],[91,3,95,3],[91,4,95,4],[91,5,95,5],[91,6,95,6],[91,7,95,7],[91,8,95,8],[91,9,95,9],[91,10,95,10],[91,11,95,11],[91,12,95,12],[91,13,95,13],[91,14,95,14],[91,15,95,15],[91,16,95,16],[91,17,95,17],[91,18,95,18],[91,19,95,19],[91,20,95,20],[91,21,95,21],[91,22,95,22],[91,23,95,23],[91,24,95,24],[91,25,95,25],[91,26,95,26],[91,27,95,27],[91,28,95,28],[91,29,95,29],[91,30,95,30],[91,31,95,31],[96,1,100,1],[96,2,100,2],[96,3,100,3],[96,4,100,4],[96,5,100,5],[96,6,100,6],[96,7,100,7],[96,8,100,8],[96,9,100,9],[96,10,100,10],[96,11,100,11],[96,12,100,12],[96,13,100,13],[96,14,100,14],[96,15,100,15],[96,16,100,16],[96,17,100,17],[96,18,100,18],[96,19,100,19],[96,20,100,20],[96,21,100,21],[96,22,100,22],[96,23,100,23],[96,24,100,24],[96,25,100,25],[96,26,100,26],[96,27,100,27],[96,28,100,28],[96,29,100,29],[96,30,100,30],[96,31,100,31],[101,1,105,1],[101,2,105,2],[101,3,105,3],[101,4,105,4],[101,5,105,5],[101,6,105,6],[101,7,105,7],[101,8,105,8],[101,9,105,9],[101,10,105,10],[101,11,105,11],[101,12,105,12],[101,13,105,13],[101,14,105,14],[101,15,105,15],[101,16,105,16],[101,17,105,17],[101,18,105,18],[101,19,105,19],[101,20,105,20],[101,21,105,21],[101,22,105,22],[101,23,105,23],[101,24,105,24],[101,25,105,25],[101,26,105,26],[101,27,105,27],[101,28,105,28],[101,29,105,29],[101,30,105,30],[101,31,105,31],[106,1,110,1],[106,2,110,2],[106,3,110,3],[106,4,110,4],[106,5,110,5],[106,6,110,6],[106,7,110,7],[106,8,110,8],[106,9,110,9],[106,10,110,10],[106,11,110,11],[106,12,110,12],[106,13,110,13],[106,14,110,14],[106,15,110,15],[106,16,110,16],[106,17,110,17],[106,18,110,18],[106,19,110,19],[106,20,110,20],[106,21,110,21],[106,22,110,22],[106,23,110,23],[106,24,110,24],[106,25,110,25],[106,26,110,26],[106,27,110,27],[106,28,110,28],[106,29,110,29],[106,30,110,30],[106,31,110,31],[111,1,115,1],[111,2,115,2],[111,3,115,3],[111,4,115,4],[111,5,115,5],[111,6,115,6],[111,7,115,7],[111,8,115,8],[111,9,115,9],[111,10,115,10],[111,11,115,11],[111,12,115,12],[111,13,115,13],[111,14,115,14],[111,15,115,15],[111,16,115,16],[111,17,115,17],[111,18,115,18],[111,19,115,19],[111,20,115,20],[111,21,115,21],[111,22,115,22],[111,23,115,23],[111,24,115,24],[111,25,115,25],[111,26,115,26],[111,27,115,27],[111,28,115,28],[111,29,115,29],[111,30,115,30],[111,31,115,31],[116,1,120,1],[116,2,120,2],[116,3,120,3],[116,4,120,4],[116,5,120,5],[116,6,120,6],[116,7,120,7],[116,8,120,8],[116,9,120,9],[116,10,120,10],[116,11,120,11],[116,12,120,12],[116,13,120,13],[116,14,120,14],[116,15,120,15],[116,16,120,16],[116,17,120,17],[116,18,120,18],[116,19,120,19],[116,20,120,20],[116,21,120,21],[116,22,120,22],[116,23,120,23],[116,24,120,24],[116,25,120,25],[116,26,120,26],[116,27,120,27],[116,28,120,28],[116,29,120,29],[116,30,120,30],[116,31,120,31],[121,1,125,1],[121,2,125,2],[121,3,125,3],[121,4,125,4],[121,5,125,5],[121,6,125,6],[121,7,125,7],[121,8,125,8],[121,9,125,9],[121,10,125,10],[121,11,125,11],[121,12,125,12],[121,13,125,13],[121,14,125,14],[121,15,125,15],[121,16,125,16],[121,17,125,17],[121,18,125,18],[121,19,125,19],[121,20,125,20],[121,21,125,21],[121,22,125,22],[121,23,125,23],[121,24,125,24],[121,25,125,25],[121,26,125,26],[121,27,125,27],[121,28,125,28],[121,29,125,29],[121,30,125,30],[121,31,125,31],[126,1,130,1],[126,2,130,2],[126,3,130,3],[126,4,130,4],[126,5,130,5],[126,6,130,6],[126,7,130,7],[126,8,130,8],[126,9,130,9],[126,10,130,10],[126,11,130,11],[126,12,130,12],[126,13,130,13],[126,14,130,14],[126,15,130,15],[126,16,130,16],[126,17,130,17],[126,18,130,18],[126,19,130,19],[126,20,130,20],[126,21,130,21],[126,22,130,22],[126,23,130,23],[126,24,130,24],[126,25,130,25],[126,26,130,26],[126,27,130,27],[126,28,130,28],[126,29,130,29],[126,30,130,30],[126,31,130,31]]}
["電設付帯引込線工事設計書   入力シート   Ver2.03"]
[]
[]
[]
["需要場所住所",{"$nulls":16},"必須","【手入力】"]
["目標",{"$nulls":16},"入力不要"]
["契約者名",{"$nulls":16},"必須","【手入力】"]
[]
["事業所情報","支店",null,"営業支店","営業所","グループ","営業所"]
[null,null,"-",{"$nulls":5},0,"必須","【選択および手入力】"]
[]
["工事会社CD",null,null,"-",{"$nulls":3},"必須","【手入力】"]
[]
["工事会社名",{"$nulls":16},"必須","【手入力】"]
[]
["工事設計者",{"$nulls":16},"必須","【手入力】"]
[]
["設計書No",{"$nulls":3},"必須","【手入力】"]
[]
["引込柱",{"$nulls":8},"画",null,"区",null,"図",null,"番",null,"の",null,"号"]
[{"$nulls":9},{"$f":"IF(LEN(B20)=12,LEFT(B20,1),\"\")","v":""},{"$f":"IF(LEN(B20)=12,MID(B20,2,1),\"\")","v":""},{"$f":"IF(LEN(B20)=12,MID(B20,3,1),\"\")","v":""},{"$f":"IF(LEN(B20)=12,MID(B20,4,1),\"\")","v":""},{"$f":"IF(LEN(B20)=12,MID(B20,5,1),\"\")","v":""},{"$f":"IF(LEN(B20)=12,MID(B20,6,1),\"\")","v":""},{"$f":"IF(LEN(B20)=12,MID(B20,7,1),\"\")","v":""},{"$f":"IF(LEN(B20)=12,MID(B20,8,1),\"\")","v":""},{"$f":"IF(LEN(B20)=12,MID(B20,9,1),\"\")","v":""},{"$f":"IF(LEN(B20)=12,MID(B20,10,1),\"\")","v":""},{"$f":"IF(LEN(B20)=12,MID(B20,11,1),\"\")","v":""},{"$f":"IF(LEN(B20)=12,RIGHT(B20,1),\"\")","v":""}]
["変圧器柱","画",null,"区",null,"図",null,"番",null,"の",null,"号"]
[{"$nulls":13},"入力不要"]
[]
["申込情報","電灯申込",{"$nulls":5},"電力申込"]
[null,"容量",{"$nulls":5},"容量",{"$nulls":3},"KW","電灯、動力　いずれか入力必須【手入力】"]
[{"$nulls":5},"※電灯は単位も入力↑",{"$nulls":11},{"$f":"LEFT(入力シート!S40,2)","v":""}]
[{"$nulls":17},{"$f":"IF(MID(入力シート!S40,3,1)=\"共\",\"共用\",MID(入力シート!S40,3,4))","v":""}]
[{"$nulls":17},{"$f":"IF(MID(入力シート!S40,3,1)=\"共\",MID(入力シート!S40,5,3),MID(入力シート!S40,7,3))","v":""}]
[]
["カード枚数","原票区分1",{"$nulls":3},"原票区分2",{"$nulls":3},"施工情報",null,null,"道路横断",{"$nulls":6},"必須"]
[null,"カード枚数",{"$nulls":3},"カード枚数",{"$nulls":6},"径間長\n[m]",null,"単独",{"$nulls":4},"必須","※余長を含まない長さを入力"]
[{"$nulls":14},"連接",{"$nulls":4},"任意","※余長を含まない長さを入力"]
[null,"必須【手入力】",{"$nulls":3},"必須【手入力】",{"$nulls":6},"道路上地上高[m]",{"$nulls":6},"横断があれば必須"]
[{"$nulls":21},"【全項目プルダウン選択】"]
["原票区分1","カード№","訂　正","付　外","引　込　線",{"$nulls":9},"設計工量","供給\nKW\n（100W）",null,null,"自動点滅器",null,"補助支持物数","引込アーム"]
[{"$nulls":4},"灯　力","パターン",null,null,"条　数","電話防護","太　さ","口　数","線亘長",{"$nulls":5},"種別","個数",null,"木柱材質","種別","長さ","ｱｰﾑﾀｲ"]
[{"$nulls":5},"方式",null,"線種"]
[{"$nulls":5},1,2]
[null,{"$f":"IF(B33>=1,\"1\",\"\")","v":""},{"$f":"IF(B40=\"1\",\"　\",\"\")","v":""}]
[]
[]
[]
[]
[null,{"$f":"IF(B33>=2,\"2\",\"\")","v":""},{"$f":"IF(B45=\"2\",\"　\",\"\")","v":""}]
[]
[]
[]
[]
[null,{"$f":"IF(B33>=3,\"3\",\"\")","v":""},{"$f":"IF(B50=\"3\",\"　\",\"\")","v":""}]
[]
[]
[]
[]
[null,{"$f":"IF(B33>=4,\"4\",\"\")","v":""},{"$f":"IF(B55=\"4\",\"　\",\"\")","v":""}]
[]
[]
[]
[]
[null,{"$f":"IF(B33>=5,\"5\",\"\")","v":""},{"$f":"IF(B60=\"5\",\"　\",\"\")","v":""}]
[]
[]
[]
[]
[null,{"$f":"IF(B33>=6,\"6\",\"\")","v":""},{"$f":"IF(B65=\"6\",\"　\",\"\")","v":""}]
[]
[]
[]
[]
[null,{"$f":"IF(B33>=7,\"7\",\"\")","v":""},{"$f":"IF(B70=\"7\",\"　\",\"\")","v":""}]
[]
[]
[]
[]
[null,{"$f":"IF(B33>=8,\"8\",\"\")","v":""},{"$f":"IF(B75=\"8\",\"　\",\"\")","v":""}]
[]
[]
[]
[]
[null,{"$f":"IF(B33>=9,\"9\",\"\")","v":""},{"$f":"IF(B80=\"9\",\"追加\",\"\")","v":""}]
[]
[]
[]
[]
[]
[]
[{"$nulls":28},"【全項目プルダウン選択】"]
["原票区分2","カード№","訂　正","付　外","引込導線",null,null,"足し（外し）線",{"$nulls":4},"接　続　替",{"$nulls":3},"部　分　修　繕",{"$nulls":6},"小　修　繕",{"$nulls":3},"活線雑作業","HS防護","承諾書取得","その他割増","違反件数"]
[{"$nulls":4},"種別","太さ","箇所数","線　種","条　数","太さ","総亘長",null,"種　別","条　数","太さ","口　数","種　別","線　種","条　数","太さ","口　数","総亘長",null,"取替種別","口　数","ケッチ､がいし"]
[{"$nulls":25},"種別","個数"]
[]
[null,{"$f":"IF(F33>=1,B33+1,\"\")","v":""},{"$f":"IF(B92<>\"\",\"　\",\"\")","v":""}]
[]
[]
[]
[]
[null,{"$f":"IF(F33>=2,B33+2,\"\")","v":""},{"$f":"IF(B97<>\"\",\"　\",\"\")","v":""}]
[]
[]
[]
[]
[null,{"$f":"IF(F33>=3,B33+3,\"\")","v":""},{"$f":"IF(B102<>\"\",\"　\",\"\")","v":""}]
[]
[]
[]
[]
[null,{"$f":"IF(F33>=4,B33+4,\"\")","v":""},{"$f":"IF(B107<>\"\",\"　\",\"\")","v":""}]
[]
[]
[]
[]
[null,{"$f":"IF(F33>=5,B33+5,\"\")","v":""},{"$f":"IF(B112<>\"\",\"　\",\"\")","v":""}]
[]
[]
[]
[]
[null,{"$f":"IF(F33>=6,B33+6,\"\")","v":""},{"$f":"IF(B117<>\"\",\"　\",\"\")","v":""}]
[]
[]
[]
[]
[null,{"$f":"IF(F33>=7,B33+7,\"\")","v":""},{"$f":"IF(B122<>\"\",\"　\",\"\")","v":""}]
[]
[]
[]
[]
[null,{"$f":"IF(F33>=8,B33+8,\"\")","v":""},{"$f":"IF(B127<>\"\",\"　\",\"\")","v":""}]

{"sheet":"(1枚目)設計書","index":1,"n_rows":58,"n_cols":67,"rows_kept":58,"merged":[[0,10,1,36],[0,41,0,44],[0,45,0,48],[0,49,0,53],[1,41,3,44],[1,45,3,48],[1,49,3,53],[2,0,2,1],[2,2,3,14],[2,15,2,16],[2,17,3,39],[4,0,5,0],[4,1,4,2],[4,3,5,6],[4,8,4,9],[4,10,5,13],[4,15,5,15],[4,16,4,18],[4,19,5,28],[4,29,4,31],[4,32,5,39],[5,16,5,18],[8,2,8,5],[8,6,11,11],[8,12,11,14],[8,15,11,15],[8,16,11,16],[8,17,8,25],[8,26,11,26],[8,27,11,27],[8,28,11,28],[8,29,8,38],[8,39,11,39],[8,40,11,42],[8,43,8,44],[8,45,11,45],[8,46,8,49],[8,50,12,53],[9,2,11,2],[9,3,11,3],[9,4,11,4],[9,5,11,5],[9,17,11,19],[9,20,9,25],[9,29,11,29],[9,30,9,32],[9,33,11,33],[9,34,11,34],[9,35,11,35],[9,36,11,36],[9,37,11,38],[9,43,11,43],[9,44,11,44],[9,46,11,46],[9,47,11,47],[9,48,11,48],[9,49,11,49],[10,20,11,21],[10,22,11,23],[10,24,11,25],[10,30,10,31],[10,32,11,32],[13,2,18,2],[13,3,18,3],[13,4,18,4],[13,5,18,5],[13,6,18,6],[13,7,18,7],[13,8,18,8],[13,9,18,9],[13,10,18,10],[13,11,18,11],[13,12,18,12],[13,13,18,13],[13,14,18,14],[13,15,18,15],[13,16,18,16],[13,17,18,17],[13,18,18,18],[13,19,18,19],[13,20,18,20],[13,21,18,21],[13,22,18,22],[13,23,18,23],[13,24,18,24],[13,25,18,25],[13,26,18,26],[13,27,18,27],[13,28,18,28],[13,29,18,29],[13,30,15,30],[13,31,18,31],[13,32,18,32],[13,33,18,33],[13,34,18,34],[13,35,18,35],[13,36,18,36],[13,37,18,37],[13,38,18,38],[13,39,18,39],[13,40,18,40],[13,41,18,41],[13,42,18,42],[13,43,14,43],[13,44,18,44],[13,45,18,45],[13,46,18,46],[13,47,18,47],[13,48,18,48],[13,49,18,49],[13,50,18,53],[13,56,14,63],[15,43,16,43],[16,30,18,30],[17,43,18,43],[19,0,20,2],[19,15,24,15],[19,16,24,16],[19,17,24,26],[19,27,24,27],[19,28,24,28],[19,29,24,29],[19,30,21,30],[19,31,24,31],[19,32,24,32],[19,33,24,33],[19,34,24,34],[19,35,24,35],[19,36,24,36],[19,37,24,37],[19,38,24,38],[19,39,24,39],[19,40,24,40],[19,41,24,41],[19,42,24,42],[19,43,20,43],[19,44,24,44],[19,45,24,45],[19,46,24,46],[19,47,24,47],[19,48,24,48],[19,49,24,49],[19,50,24,53],[20,56,21,59],[20,61,21,64],[21,43,22,43],[22,30,24,30],[23,43,24,43],[25,15,30,15],[25,16,30,16],[25,17,30,26],[25,27,30,27],[25,28,30,28],[25,29,30,29],[25,30,27,30],[25,31,30,31],[25,32,30,32],[25,33,30,33],[25,34,30,34],[25,35,30,35],[25,36,30,36],[25,37,30,37],[25,38,30,38],[25,39,30,39],[25,40,30,40],[25,41,30,41],[25,42,30,42],[25,43,26,43],[25,44,30,44],[25,45,30,45],[25,46,30,46],[25,47,30,47],[25,48,30,48],[25,49,30,49],[25,50,30,53],[27,43,28,43],[28,30,30,30],[29,43,30,43],[29,56,30,59],[29,61,30,64],[31,15,36,15],[31,16,36,16],[31,17,36,26],[31,27,36,27],[31,28,36,28],[31,29,36,29],[31,30,33,30],[31,31,36,31],[31,32,36,32],[31,33,36,33],[31,34,36,34],[31,35,36,35],[31,36,36,36],[31,37,36,37],[31,38,36,38],[31,39,36,39],[31,40,36,40],[31,41,36,41],[31,42,36,42],[31,43,32,43],[31,44,36,44],[31,45,36,45],[31,46,36,46],[31,47,36,47],[31,48,36,48],[31,49,36,49],[31,50,36,53],[33,43,34,43],[34,30,36,30],[35,43,36,43],[37,15,40,15],[37,16,40,16],[37,17,40,17],[37,18,40,18],[37,19,37,21],[37,22,37,27],[37,28,37,32],[37,33,37,40],[37,41,37,44],[37,45,40,45],[37,46,40,46],[37,47,40,47],[37,48,40,48],[37,49,40,49],[37,50,41,53],[37,56,37,59],[37,61,37,64],[37,66,37,69],[38,19,40,19],[38,20,40,20],[38,21,40,21],[38,22,40,22],[38,23,40,23],[38,24,40,25],[38,26,40,27],[38,28,40,28],[38,29,40,29],[38,30,40,31],[38,32,40,32],[38,33,40,33],[38,34,40,34],[38,35,40,35],[38,36,40,37],[38,38,40,38],[38,39,40,40],[38,41,40,41],[38,42,40,42],[38,43,38,44],[39,43,40,43],[39,44,40,44],[39,56,39,59],[39,61,39,64],[42,15,47,15],[42,16,47,16],[42,17,47,17],[42,18,47,18],[42,19,47,19],[42,20,47,20],[42,21,47,21],[42,22,47,22],[42,23,47,23],[42,24,47,24],[42,25,47,25],[42,26,47,26],[42,27,47,27],[42,28,47,28],[42,29,47,29],[42,30,47,30],[42,31,47,31],[42,32,47,32],[42,33,47,33],[42,34,47,34],[42,35,47,35],[42,36,47,36],[42,37,47,37],[42,38,47,38],[42,39,47,39],[42,40,47,40],[42,41,47,41],[42,42,47,42],[42,43,47,43],[42,44,47,44],[42,45,47,45],[42,46,47,46],[42,47,47,47],[42,48,47,48],[42,49,47,49],[42,50,47,53],[42,56,43,64],[47,56,48,59],[47,61,48,64],[48,18,49,22],[48,23,49,32],[48,33,48,38],[48,39,49,40],[48,41,49,46],[48,47,49,48],[48,49,49,52],[48,53,49,53],[49,33,49,38],[50,18,50,22],[50,25,51,26],[50,34,50,52],[51,18,51,22],[51,34,51,52],[51,56,51,59],[51,61,51,64],[52,18,54,20],[52,21,52,22],[52,23,52,24],[52,25,52,26],[52,27,52,28],[52,29,52,30],[52,31,52,32],[52,34,52,52],[53,21,54,22],[53,23,54,24],[53,25,54,26],[53,27,54,28],[53,29,54,30],[53,31,54,32],[53,34,53,52],[54,34,54,52],[54,56,54,59],[54,61,54,64],[55,18,56,20],[55,21,56,21],[55,22,56,25],[55,26,56,26],[55,27,56,27],[55,28,56,31],[55,32,56,32],[55,34,55,52],[56,34,56,52],[57,34,57,52]]}
["ver2.03(2020.10)",{"$nulls":9},"電設付帯引込線工事設計書",{"$nulls":30},"上長",{"$nulls":3},"検収担当",{"$nulls":3},"設計照査"]
[{"$f":"IF(入力シート!N12<>\"\",\"NW受付番号：\" & 入力シート!N12,\"NW受付番号：\")","v":"NW受付番号："}]
["お客さま名",null,{"$f":"IF(入力シート!B7<>\"\",入力シート!B7,\"\")","v":""},{"$nulls":12},"住所",null,{"$f":"IF(入力シート!B5<>\"\",入力シート!B5,\"\")","v":""}]
[]
["申し込み\n内容","電灯",null,{"$f":"IF(入力シート!D26<>\"\",入力シート!D26,\"\")","v":""},{"$nulls":4},"電力",null,{"$f":"IF(入力シート!J26<>\"\",入力シート!J26,\"\")","v":""},{"$nulls":4},"設計","工事",null,null,{"$f":"IF(入力シート!B14<>\"\",入力シート!B14,\"\")","v":""},{"$nulls":9},"担当者",null,null,{"$f":"IF(入力シート!B16<>\"\",入力シート!B16,\"\")","v":""}]
[{"$nulls":7},{"$f":"IF(入力シート!F26<>\"\",入力シート!F26,\"\")","v":""},{"$nulls":6},"kW",null,"会社名"]
[]
[]
[null,null,"事業所",{"$nulls":3},"工事会社",{"$nulls":5},"設計書No",null,null,"カード№","原票区分","工　事　場　所",{"$nulls":8},"工事区分","訂　正","付　外","引　込　線",{"$nulls":9},"設計工量","供給\nKW\n（100W）",null,null,"自動\n点滅器",null,"補助支持物数","引込アーム",{"$nulls":3},"インプット\n\nチェック"]
[null,null,"支店","営業支店","営業所","グループ",{"$nulls":11},"営業所",null,null,"メッシュNo",{"$nulls":8},"灯　力","パターン",null,null,"条　数","電話防護","太　さ","口　数","総亘長",{"$nulls":5},"種別","個数",null,"本柱材質","種別","長さ","アームタイ"]
[{"$nulls":20},"画",null,"区",null,"図",{"$nulls":5},"方式",null,"線種"]
[{"$nulls":30},1,2]
[null,null,1,2,3,4,5,6,7,8,9,10,11,12,13,14,15,16,17,18,19,20,21,22,23,24,25,26,27,28,29,30,31,32,33,34,35,36,37,38,39,40,41,42,43,44,45,46,47,48]
[null,null,{"$f":"IF(入力シート!B10<>\"\",入力シート!B10,\"\")","v":""},{"$f":"IF(入力シート!D10<>\"\",入力シート!D10,\"\")","v":""},{"$f":"IF(入力シート!E10<>\"\",入力シート!E10,\"\")","v":""},{"$f":"IF(入力シート!F10<>\"\",入力シート!F10,\"\")","v":""},{"$f":"IF(入力シート!B12<>\"\",入力シート!B12,\"\")","v":""},{"$f":"IF(入力シート!C12<>\"\",入力シート!C12,\"\")","v":""},"-",{"$f":"IF(入力シート!E12<>\"\",入力シート!E12,\"\")","v":""},{"$f":"IF(入力シート!F12<>\"\",入力シート!F12,\"\")","v":""},{"$f":"IF(入力シート!G12<>\"\",入力シート!G12,\"\")","v":""},{"$f":"IF(入力シート!B18<>\"\",入力シート!B18,\"\")","v":""},{"$f":"IF(入力シート!C18<>\"\",入力シート!C18,\"\")","v":""},{"$f":"IF(入力シート!D18<>\"\",入力シート!D18,\"\")","v":""},{"$f":"IF(入力シート!B40<>\"\",入力シート!B40,\"\")","v":""},1,{"$f":"IF(入力シート!G10<>\"\",入力シート!G10,\"\")","v":""},{"$f":"IF(入力シート!H10<>\"\",入力シート!H10,\"\")","v":""},0,{"$f":"IF(入力シート!J21<>\"\",入力シート!J21,\"\")","v":""},{"$f":"IF(入力シート!K21<>\"\",入力シート!K21,\"\")","v":""},{"$f":"IF(入力シート!L21<>\"\",入力シート!L21,\"\")","v":""},{"$f":"IF(入力シート!M21<>\"\",入力シート!M21,\"\")","v":""},{"$f":"IF(入力シート!N21<>\"\",入力シート!N21,\"\")","v":""},{"$f":"IF(入力シート!O21<>\"\",入力シート!O21,\"\")","v":""},"供給",{"$f":"IF(入力シート!C40<>\"\",入力シート!C40,\"\")","v":""},{"$f":"IF(入力シート!D40<>\"\",入力シート!D40,\"\")","v":""},{"$f":"IF(入力シート!E40<>\"\",入力シート!E40,\"\")","v":""},{"$f":"IF(LEN(入力シート!F40)=2,LEFT(入力シート!F40,1),LEFT(入力シート!F40,3))","v":""},{"$f":"IF(入力シート!G40<>\"\",入力シート!G40,\"\")","v":""},{"$f":"IF(入力シート!H40<>\"\",入力シート!H40,\"\")","v":""},{"$f":"IF(入力シート!I40<>\"\",入力シート!I40,\"\")","v":""},{"$f":"IF(入力シート!J40<>\"\",入力シート!J40,\"\")","v":""},{"$f":"IF(入力シート!K40<>\"\",入力シート!K40,\"\")","v":""},{"$f":"IF(入力シート!L40<>\"\",入力シート!L40,\"\")","v":""},{"$f":"IF(入力シート!M40<>\"\",入力シート!M40,\"\")","v":""},{"$f":"IF(入力シート!N40<>\"\",入力シート!N40,\"\")","v":""},{"$f":"IF(入力シート!O40<>\"\",入力シート!O40,\"\")","v":""},{"$f":"IF(入力シート!P40<>\"\",入力シート!P40,\"\")","v":""},{"$f":"IF(入力シート!Q40<>\"\",入力シート!Q40,\"\")","v":""},{"$f":"IF(入力シート!R40<>\"\",入力シート!R40,\"\")","v":""},{"$f":"LEFT(入力シート!S40,2)","v":""},{"$f":"IF(入力シート!T40<>\"\",入力シート!T40,\"\")","v":""},{"$f":"IF(入力シート!U40<>\"\",入力シート!U40,\"\")","v":""},{"$f":"IF(入力シート!V40<>\"\",入力シート!V40,\"\")","v":""},{"$f":"IF(入力シート!W40<>\"\",入力シート!W40,\"\")","v":""},{"$f":"IF(入力シート!X40<>\"\",入力シート!X40,\"\")","v":""},{"$f":"IF(入力シート!Y40<>\"\",入力シート!Y40,\"\")","v":""},{"$nulls":6},"↓「平面図」編集↓"]
[]
[{"$nulls":43},{"$f":"IF(MID(入力シート!S40,3,1)=\"共\",\"共用\",MID(入力シート!S40,3,4))","v":""}]
[{"$nulls":30},{"$f":"IF(LEN(入力シート!F40)=2,RIGHT(入力シート!F40,1),MID(入力シート!F40,4,4))","v":""}]
[{"$nulls":43},{"$f":"IF(MID(入力シート!S40,3,1)=\"共\",MID(入力シート!S40,5,3),MID(入力シート!S40,7,3))","v":""}]
[]
["平面図",{"$nulls":14},{"$f":"IF(入力シート!B45<>\"\",入力シート!B45,\"\")","v":""},1,{"$nulls":10},{"$f":"IF(入力シート!C45<>\"\",入力シート!C45,\"\")","v":""},{"$f":"IF(入力シート!D45<>\"\",入力シート!D45,\"\")","v":""},{"$f":"IF(入力シート!E45<>\"\",入力シート!E45,\"\")","v":""},{"$f":"IF(LEN(入力シート!F45)=2,LEFT(入力シート!F45,1),LEFT(入力シート!F45,3))","v":""},{"$f":"IF(入力シート!G45<>\"\",入力シート!G45,\"\")","v":""},{"$f":"IF(入力シート!H45<>\"\",入力シート!H45,\"\")","v":""},{"$f":"IF(入力シート!I45<>\"\",入力シート!I45,\"\")","v":""},{"$f":"IF(入力シート!J45<>\"\",入力シート!J45,\"\")","v":""},{"$f":"IF(入力シート!K45<>\"\",入力シート!K45,\"\")","v":""},{"$f":"IF(入力シート!L45<>\"\",入力シート!L45,\"\")","v":""},{"$f":"IF(入力シート!M45<>\"\",入力シート!M45,\"\")","v":""},{"$f":"IF(入力シート!N45<>\"\",入力シート!N45,\"\")","v":""},{"$f":"IF(入力シート!O45<>\"\",入力シート!O45,\"\")","v":""},{"$nulls":3},{"$f":"LEFT(入力シート!S45,2)","v":""},{"$f":"IF(入力シート!T45<>\"\",入力シート!T45,\"\")","v":""},{"$f":"IF(入力シート!U45<>\"\",入力シート!U45,\"\")","v":""},{"$f":"IF(入力シート!V45<>\"\",入力シート!V45,\"\")","v":""},{"$f":"IF(入力シート!W45<>\"\",入力シート!W45,\"\")","v":""},{"$f":"IF(入力シート!X45<>\"\",入力シート!X45,\"\")","v":""},{"$f":"IF(入力シート!Y45<>\"\",入力シート!Y45,\"\")","v":""}]
[{"$nulls":56},"当社柱",{"$nulls":4},"変圧器柱"]
[{"$nulls":43},{"$f":"IF(MID(入力シート!S45,3,1)=\"共\",\"共用\",MID(入力シート!S45,3,4))","v":""}]
[{"$nulls":30},{"$f":"IF(LEN(入力シート!F45)=2,RIGHT(入力シート!F45,1),MID(入力シート!F45,4,4))","v":""}]
[{"$nulls":43},{"$f":"IF(MID(入力シート!S45,3,1)=\"共\",MID(入力シート!S45,5,3),MID(入力シート!S45,7,3))","v":""}]
[]
[{"$nulls":15},{"$f":"IF(入力シート!B50<>\"\",入力シート!B50,\"\")","v":""},1,{"$nulls":10},{"$f":"IF(入力シート!C50<>\"\",入力シート!C50,\"\")","v":""},{"$f":"IF(入力シート!D50<>\"\",入力シート!D50,\"\")","v":""},{"$f":"IF(入力シート!E50<>\"\",入力シート!E50,\"\")","v":""},{"$f":"IF(LEN(入力シート!F50)=2,LEFT(入力シート!F50,1),LEFT(入力シート!F50,3))","v":""},{"$f":"IF(入力シート!G50<>\"\",入力シート!G50,\"\")","v":""},{"$f":"IF(入力シート!H50<>\"\",入力シート!H50,\"\")","v":""},{"$f":"IF(入力シート!I50<>\"\",入力シート!I50,\"\")","v":""},{"$f":"IF(入力シート!J50<>\"\",入力シート!J50,\"\")","v":""},{"$f":"IF(入力シート!K50<>\"\",入力シート!K50,\"\")","v":""},{"$f":"IF(入力シート!L50<>\"\",入力シート!L50,\"\")","v":""},{"$f":"IF(入力シート!M50<>\"\",入力シート!M50,\"\")","v":""},{"$f":"IF(入力シート!N50<>\"\",入力シート!N50,\"\")","v":""},{"$f":"IF(入力シート!O50<>\"\",入力シート!O50,\"\")","v":""},{"$nulls":3},{"$f":"LEFT(入力シート!S50,2)","v":""},{"$f":"IF(入力シート!T50<>\"\",入力シート!T50,\"\")","v":""},{"$f":"IF(入力シート!U50<>\"\",入力シート!U50,\"\")","v":""},{"$f":"IF(入力シート!V50<>\"\",入力シート!V50,\"\")","v":""},{"$f":"IF(入力シート!W50<>\"\",入力シート!W50,\"\")","v":""},{"$f":"IF(入力シート!X50<>\"\",入力シート!X50,\"\")","v":""},{"$f":"IF(入力シート!Y50<>\"\",入力シート!Y50,\"\")","v":""}]
[]
[{"$nulls":43},{"$f":"IF(MID(入力シート!S50,3,1)=\"共\",\"共用\",MID(入力シート!S50,3,4))","v":""}]
[{"$nulls":30},{"$f":"IF(LEN(入力シート!F50)=2,RIGHT(入力シート!F50,1),MID(入力シート!F50,4,4))","v":""}]
[{"$nulls":43},{"$f":"IF(MID(入力シート!S50,3,1)=\"共\",MID(入力シート!S50,5,3),MID(入力シート!S50,7,3))","v":""},{"$nulls":12},"NTT柱",{"$nulls":4},"先方柱"]
[]
[{"$nulls":15},{"$f":"IF(入力シート!B55<>\"\",入力シート!B55,\"\")","v":""},1,{"$nulls":10},{"$f":"IF(入力シート!C55<>\"\",入力シート!C55,\"\")","v":""},{"$f":"IF(入力シート!D55<>\"\",入力シート!D55,\"\")","v":""},{"$f":"IF(入力シート!E55<>\"\",入力シート!E55,\"\")","v":""},{"$f":"IF(LEN(入力シート!F55)=2,LEFT(入力シート!F55,1),LEFT(入力シート!F55,3))","v":""},{"$f":"IF(入力シート!G55<>\"\",入力シート!G55,\"\")","v":""},{"$f":"IF(入力シート!H55<>\"\",入力シート!H55,\"\")","v":""},{"$f":"IF(入力シート!I55<>\"\",入力シート!I55,\"\")","v":""},{"$f":"IF(入力シート!J55<>\"\",入力シート!J55,\"\")","v":""},{"$f":"IF(入力シート!K55<>\"\",入力シート!K55,\"\")","v":""},{"$f":"IF(入力シート!L55<>\"\",入力シート!L55,\"\")","v":""},{"$f":"IF(入力シート!M55<>\"\",入力シート!M55,\"\")","v":""},{"$f":"IF(入力シート!N55<>\"\",入力シート!N55,\"\")","v":""},{"$f":"IF(入力シート!O55<>\"\",入力シート!O55,\"\")","v":""},{"$nulls":3},{"$f":"LEFT(入力シート!S55,2)","v":""},{"$f":"IF(入力シート!T55<>\"\",入力シート!T55,\"\")","v":""},{"$f":"IF(入力シート!U55<>\"\",入力シート!U55,\"\")","v":""},{"$f":"IF(入力シート!V55<>\"\",入力シート!V55,\"\")","v":""},{"$f":"IF(入力シート!W55<>\"\",入力シート!W55,\"\")","v":""},{"$f":"IF(入力シート!X55<>\"\",入力シート!X55,\"\")","v":""},{"$f":"IF(入力シート!Y55<>\"\",入力シート!Y55,\"\")","v":""}]
[]
[{"$nulls":43},{"$f":"IF(MID(入力シート!S55,3,1)=\"共\",\"共用\",MID(入力シート!S55,3,4))","v":""}]
[{"$nulls":30},{"$f":"IF(LEN(入力シート!F55)=2,RIGHT(入力シート!F55,1),MID(入力シート!F55,4,4))","v":""}]
[{"$nulls":43},{"$f":"IF(MID(入力シート!S55,3,1)=\"共\",MID(入力シート!S55,5,3),MID(入力シート!S55,7,3))","v":""}]
[]
[{"$nulls":15},"カード№","原票区分","訂　正","付　外","引込導線",null,null,"足し（外し）線",{"$nulls":5},"接　続　替",{"$nulls":4},"部　分　修　繕",{"$nulls":7},"小　修　繕",{"$nulls":3},"活線雑作業","HS防護","承諾書取得","その他割増","違反件数","インプット\n\nチェック",{"$nulls":5},"低圧線",{"$nulls":4},"引込線",{"$nulls":4},"取り外し記号"]
[{"$nulls":19},"種別","太さ","箇所数","線　種","条　数","太さ",null,"総亘長",null,"種　別","条　数","太さ",null,"口　数","種　別","線　種","条　数","太さ",null,"口　数","総亘長",null,"取替種別","口　数","ケッチ\nがいし"]
[{"$nulls":43},"種別","個数",{"$nulls":11},"メッセンジャー",{"$nulls":4},"ﾃｷｽﾄﾎﾞｯｸｽ"]
[]
[{"$nulls":15},14,15,16,17,18,19,20,21,22,23,24,25,26,27,28,29,30,31,32,33,34,35,36,37,38,39,40,41,42,43,44,45,46,47,48]
[{"$nulls":15},{"$f":"IF(入力シート!B92<>\"\",入力シート!B92,\"\")","v":""},2,{"$f":"IF(入力シート!C92<>\"\",入力シート!C92,\"\")","v":""},{"$f":"IF(入力シート!D92<>\"\",入力シート!D92,\"\")","v":""},{"$f":"IF(入力シート!E92<>\"\",入力シート!E92,\"\")","v":""},{"$f":"IF(入力シート!F92<>\"\",入力シート!F92,\"\")","v":""},{"$f":"IF(入力シート!G92<>\"\",入力シート!G92,\"\")","v":""},{"$f":"IF(入力シート!H92<>\"\",入力シート!H92,\"\")","v":""},{"$f":"IF(入力シート!I92<>\"\",入力シート!I92,\"\")","v":""},null,{"$f":"IF(入力シート!J92<>\"\",入力シート!J92,\"\")","v":""},{"$f":"IF(入力シート!K92<>\"\",入力シート!K92,\"\")","v":""},{"$f":"IF(入力シート!L92<>\"\",入力シート!L92,\"\")","v":""},{"$f":"IF(入力シート!M92<>\"\",入力シート!M92,\"\")","v":""},{"$f":"IF(入力シート!N92<>\"\",入力シート!N92,\"\")","v":""},null,{"$f":"IF(入力シート!O92<>\"\",入力シート!O92,\"\")","v":""},{"$f":"IF(入力シート!P92<>\"\",入力シート!P92,\"\")","v":""},{"$f":"IF(入力シート!Q92<>\"\",入力シート!Q92,\"\")","v":""},{"$f":"IF(入力シート!R92<>\"\",入力シート!R92,\"\")","v":""},{"$f":"IF(入力シート!S92<>\"\",入力シート!S92,\"\")","v":""},null,{"$f":"IF(入力シート!T92<>\"\",入力シート!T92,\"\")","v":""},{"$f":"IF(入力シート!U92<>\"\",入力シート!U92,\"\")","v":""},{"$f":"IF(入力シート!V92<>\"\",入力シート!V92,\"\")","v":""},{"$f":"IF(入力シート!W92<>\"\",入力シート!W92,\"\")","v":""},{"$f":"IF(入力シート!X92<>\"\",入力シート!X92,\"\")","v":""},{"$f":"IF(入力シート!Y92<>\"\",入力シート!Y92,\"\")","v":""},{"$f":"IF(入力シート!Z92<>\"\",入力シート!Z92,\"\")","v":""},{"$f":"IF(入力シート!AA92<>\"\",入力シート!AA92,\"\")","v":""},{"$f":"IF(入力シート!AB92<>\"\",入力シート!AB92,\"\")","v":""},{"$f":"IF(入力シート!AC92<>\"\",入力シート!AC92,\"\")","v":""},{"$f":"IF(入力シート!AD92<>\"\",入力シート!AD92,\"\")","v":""},{"$f":"IF(入力シート!AE92<>\"\",入力シート!AE92,\"\")","v":""},{"$f":"IF(入力シート!AF92<>\"\",入力シート!AF92,\"\")","v":""},{"$nulls":6},"電線種別テキストボックス"]
[]
[]
[]
[]
[{"$nulls":56},"家屋",{"$nulls":4},"用地境界"]
[{"$nulls":18},"道路横断の有無",{"$nulls":4},{"$f":"IF(入力シート!Q31<>\"\",入力シート!Q31,\"\")","v":""},{"$nulls":9},"自主検査項目",{"$nulls":5},"点検日",null,"年　　　　月　　　　日",{"$nulls":5},"点検者",{"$nulls":5},"✓"]
[{"$nulls":33},"（工事会社記入欄）"]
[{"$nulls":18},"道路上最低点",{"$nulls":4},"設計",null,{"$f":"IF(入力シート!Q34<>\"\",入力シート!Q34,\"\")","v":""},null,null,"工事後",{"$nulls":4},1,"キズまたはキンクのある電線を使用していないか"]
[{"$nulls":18},"地上高",{"$nulls":8},"ｍ",{"$nulls":4},"ｍ",2,"地表上の高さはよいか",{"$nulls":21},"直線道路",{"$nulls":4},"曲線道路"]
[{"$nulls":18},"引込柱",null,null,"画",null,"区",null,"図",null,"番",null,"の",null,"号",null,3,"他物との離隔はよいか"]
[{"$nulls":21},{"$f":"入力シート!J21&入力シート!K21","v":""},null,{"$f":"入力シート!L21&入力シート!M21","v":""},null,{"$f":"入力シート!N21&入力シート!O21","v":""},null,{"$f":"入力シート!P21&入力シート!Q21","v":""},null,{"$f":"入力シート!R21&入力シート!S21","v":""},null,{"$f":"入力シート!T21&入力シート!U21","v":""},null,4,"電線の接続および接続後の処理はよいか"]
[{"$nulls":33},5,"ち度は規定に適合しているか",{"$nulls":21},"T字道路",{"$nulls":4},"十字道路"]
[{"$nulls":18},"径間長",null,null,"単独",{"$f":"IF(入力シート!Q32<>\"\",入力シート!Q32,\"\")","v":""},{"$nulls":3},"ｍ","連接",{"$f":"IF(入力シート!Q33<>\"\",入力シート!Q33,\"\")","v":""},{"$nulls":3},"ｍ",6,"配色と色別区分はよいか"]
[{"$nulls":33},7,"家屋側支持点・ケーブルの取り付け工事はよいか"]
["（第一支持点、引込口位置、メッセンジャー相手柱等について記入）",{"$nulls":17},"※径間長は余長を含まない引込線長さを記入",{"$nulls":14},8,"資材は、当社指定品を使用しているか"]

{"sheet":"(2枚目)設計書","index":2,"n_rows":58,"n_cols":54,"rows_kept":58,"hidden":true,"merged":[[0,10,1,36],[0,41,0,44],[0,45,0,48],[0,49,0,53],[1,41,3,44],[1,45,3,48],[1,49,3,53],[2,0,2,1],[2,2,3,14],[2,15,2,16],[2,17,3,39],[4,0,5,0],[4,1,4,2],[4,3,5,6],[4,8,4,9],[4,10,5,13],[4,15,5,15],[4,16,4,18],[4,19,5,28],[4,29,4,31],[4,32,5,39],[5,16,5,18],[8,2,8,5],[8,6,11,11],[8,12,11,14],[8,15,11,15],[8,16,11,16],[8,17,8,25],[8,26,11,26],[8,27,11,27],[8,28,11,28],[8,29,8,38],[8,39,11,39],[8,40,11,42],[8,43,8,44],[8,45,11,45],[8,46,8,49],[8,50,12,53],[9,2,11,2],[9,3,11,3],[9,4,11,4],[9,5,11,5],[9,17,11,19],[9,20,9,25],[9,29,11,29],[9,30,9,32],[9,33,11,33],[9,34,11,34],[9,35,11,35],[9,36,11,36],[9,37,11,38],[9,43,11,43],[9,44,11,44],[9,46,11,46],[9,47,11,47],[9,48,11,48],[9,49,11,49],[10,20,11,21],[10,22,11,23],[10,24,11,25],[10,30,10,31],[10,32,11,32],[13,2,18,2],[13,3,18,3],[13,4,18,4],[13,5,18,5],[13,6,18,6],[13,7,18,7],[13,8,18,8],[13,9,18,9],[13,10,18,10],[13,11,18,11],[13,12,18,12],[13,13,18,13],[13,14,18,14],[13,15,18,15],[13,16,18,16],[13,17,18,17],[13,18,18,18],[13,19,18,19],[13,20,18,20],[13,21,18,21],[13,22,18,22],[13,23,18,23],[13,24,18,24],[13,25,18,25],[13,26,18,26],[13,27,18,27],[13,28,18,28],[13,29,18,29],[13,30,15,30],[13,31,18,31],[13,32,18,32],[13,33,18,33],[13,34,18,34],[13,35,18,35],[13,36,18,36],[13,37,18,37],[13,38,18,38],[13,39,18,39],[13,40,18,40],[13,41,18,41],[13,42,18,42],[13,43,14,43],[13,44,18,44],[13,45,18,45],[13,46,18,46],[13,47,18,47],[13,48,18,48],[13,49,18,49],[13,50,18,53],[15,43,16,43],[16,30,18,30],[17,43,18,43],[19,0,20,2],[19,15,24,15],[19,16,24,16],[19,17,24,26],[19,27,24,27],[19,28,24,28],[19,29,24,29],[19,30,21,30],[19,31,24,31],[19,32,24,32],[19,33,24,33],[19,34,24,34],[19,35,24,35],[19,36,24,36],[19,37,24,37],[19,38,24,38],[19,39,24,39],[19,40,24,40],[19,41,24,41],[19,42,24,42],[19,43,20,43],[19,44,24,44],[19,45,24,45],[19,46,24,46],[19,47,24,47],[19,48,24,48],[19,49,24,49],[19,50,24,53],[21,43,22,43],[22,30,24,30],[23,1,26,11],[23,43,24,43],[25,15,30,15],[25,16,30,16],[25,17,30,26],[25,27,30,27],[25,28,30,28],[25,29,30,29],[25,30,27,30],[25,31,30,31],[25,32,30,32],[25,33,30,33],[25,34,30,34],[25,35,30,35],[25,36,30,36],[25,37,30,37],[25,38,30,38],[25,39,30,39],[25,40,30,40],[25,41,30,41],[25,42,30,42],[25,43,26,43],[25,44,30,44],[25,45,30,45],[25,46,30,46],[25,47,30,47],[25,48,30,48],[25,49,30,49],[25,50,30,53],[27,43,28,43],[28,30,30,30],[29,43,30,43],[31,15,36,15],[31,16,36,16],[31,17,36,26],[31,27,36,27],[31,28,36,28],[31,29,36,29],[31,30,33,30],[31,31,36,31],[31,32,36,32],[31,33,36,33],[31,34,36,34],[31,35,36,35],[31,36,36,36],[31,37,36,37],[31,38,36,38],[31,39,36,39],[31,40,36,40],[31,41,36,41],[31,42,36,42],[31,43,32,43],[31,44,36,44],[31,45,36,45],[31,46,36,46],[31,47,36,47],[31,48,36,48],[31,49,36,49],[31,50,36,53],[33,43,34,43],[34,30,36,30],[35,43,36,43],[37,15,40,15],[37,16,40,16],[37,17,40,17],[37,18,40,18],[37,19,37,21],[37,22,37,27],[37,28,37,32],[37,33,37,40],[37,41,37,44],[37,45,40,45],[37,46,40,46],[37,47,40,47],[37,48,40,48],[37,49,40,49],[37,50,41,53],[38,19,40,19],[38,20,40,20],[38,21,40,21],[38,22,40,22],[38,23,40,23],[38,24,40,25],[38,26,40,27],[38,28,40,28],[38,29,40,29],[38,30,40,31],[38,32,40,32],[38,33,40,33],[38,34,40,34],[38,35,40,35],[38,36,40,37],[38,38,40,38],[38,39,40,40],[38,41,40,41],[38,42,40,42],[38,43,38,44],[39,43,40,43],[39,44,40,44],[42,15,47,15],[42,16,47,16],[42,17,47,17],[42,18,47,18],[42,19,47,19],[42,20,47,20],[42,21,47,21],[42,22,47,22],[42,23,47,23],[42,24,47,24],[42,25,47,25],[42,26,47,26],[42,27,47,27],[42,28,47,28],[42,29,47,29],[42,30,47,30],[42,31,47,31],[42,32,47,32],[42,33,47,33],[42,34,47,34],[42,35,47,35],[42,36,47,36],[42,37,47,37],[42,38,47,38],[42,39,47,39],[42,40,47,40],[42,41,47,41],[42,42,47,42],[42,43,47,43],[42,44,47,44],[42,45,47,45],[42,46,47,46],[42,47,47,47],[42,48,47,48],[42,49,47,49],[42,50,47,53],[48,18,49,22],[48,23,49,32],[48,33,48,38],[48,39,49,40],[48,41,49,46],[48,47,49,48],[48,49,49,52],[48,53,49,53],[49,33,49,38],[50,18,50,22],[50,25,51,26],[50,34,50,52],[51,18,51,22],[51,34,51,52],[52,18,54,20],[52,21,52,22],[52,23,52,24],[52,25,52,26],[52,27,52,28],[52,29,52,30],[52,31,52,32],[52,34,52,52],[53,21,54,22],[53,23,54,24],[53,25,54,26],[53,27,54,28],[53,29,54,30],[53,31,54,32],[53,34,53,52],[54,34,54,52],[55,18,56,20],[55,21,56,21],[55,22,56,25],[55,26,56,26],[55,27,56,27],[55,28,56,31],[55,32,56,32],[55,34,55,52],[56,34,56,52],[57,34,57,52]]}
[{"$f":"'(1枚目)設計書'!A1","v":"ver2.03(2020.10)"},{"$nulls":9},"電設付帯引込線工事設計書",{"$nulls":30},"上長",{"$nulls":3},"検収担当",{"$nulls":3},"設計照査"]
[{"$f":"IF(入力シート!N12<>\"\",\"NW受付番号：\" & 入力シート!N12,\"NW受付番号：\")","v":"NW受付番号："}]
["お客さま名",null,{"$f":"IF(入力シート!B7<>\"\",入力シート!B7,\"\")","v":""},{"$nulls":12},"住所",null,{"$f":"IF(入力シート!B5<>\"\",入力シート!B5,\"\")","v":""}]
[]
["申し込み\n内容","電灯",null,{"$f":"IF(入力シート!D26<>\"\",入力シート!D26,\"\")","v":""},{"$nulls":4},"電力",null,{"$f":"IF(入力シート!J26<>\"\",入力シート!J26,\"\")","v":""},{"$nulls":4},"設計","工事",null,null,{"$f":"IF(入力シート!B14<>\"\",入力シート!B14,\"\")","v":""},{"$nulls":9},"担当者",null,null,{"$f":"IF(入力シート!B16<>\"\",入力シート!B16,\"\")","v":""}]
[{"$nulls":7},{"$f":"IF(入力シート!F26<>\"\",入力シート!F26,\"\")","v":""},{"$nulls":6},"kW",null,"会社名"]
[]
[]
[null,null,"事業所",{"$nulls":3},"工事会社",{"$nulls":5},"設計書No",null,null,"カード№","原票区分","工　事　場　所",{"$nulls":8},"工事区分","訂　正","付　外","引　込　線",{"$nulls":9},"設計工量","供給\nKW\n（100W）",null,null,"自動\n点滅器",null,"補助支持物数","引込アーム",{"$nulls":3},"インプット\n\nチェック"]
[null,null,"支店","営業支店","営業所","グループ",{"$nulls":11},"営業所",null,null,"メッシュNo",{"$nulls":8},"灯　力","パターン",null,null,"条　数","電話防護","太　さ","口　数","総亘長",{"$nulls":5},"種別","個数",null,"本柱材質","種別","長さ","アームタイ"]
[{"$nulls":20},"画",null,"区",null,"図",{"$nulls":5},"方式",null,"線種"]
[{"$nulls":30},1,2]
[null,null,1,2,3,4,5,6,7,8,9,10,11,12,13,14,15,16,17,18,19,20,21,22,23,24,25,26,27,28,29,30,31,32,33,34,35,36,37,38,39,40,41,42,43,44,45,46,47,48]
[null,null,{"$f":"IF(入力シート!B10<>\"\",入力シート!B10,\"\")","v":""},{"$f":"IF(入力シート!D10<>\"\",入力シート!D10,\"\")","v":""},{"$f":"IF(入力シート!E10<>\"\",入力シート!E10,\"\")","v":""},{"$f":"IF(入力シート!F10<>\"\",入力シート!F10,\"\")","v":""},{"$f":"IF(入力シート!B12<>\"\",入力シート!B12,\"\")","v":""},{"$f":"IF(入力シート!C12<>\"\",入力シート!C12,\"\")","v":""},"-",{"$f":"IF(入力シート!E12<>\"\",入力シート!E12,\"\")","v":""},{"$f":"IF(入力シート!F12<>\"\",入力シート!F12,\"\")","v":""},{"$f":"IF(入力シート!G12<>\"\",入力シート!G12,\"\")","v":""},{"$f":"IF(入力シート!B18<>\"\",入力シート!B18,\"\")","v":""},{"$f":"IF(入力シート!C18<>\"\",入力シート!C18,\"\")","v":""},{"$f":"IF(入力シート!D18<>\"\",入力シート!D18,\"\")","v":""},{"$f":"IF(入力シート!B60<>\"\",入力シート!B60,\"\")","v":""},"1",{"$f":"IF(入力シート!G10<>\"\",入力シート!G10,\"\")","v":""},{"$f":"IF(入力シート!H10<>\"\",入力シート!H10,\"\")","v":""},0,{"$f":"IF(入力シート!J21<>\"\",入力シート!J21,\"\")","v":""},{"$f":"IF(入力シート!K21<>\"\",入力シート!K21,\"\")","v":""},{"$f":"IF(入力シート!L21<>\"\",入力シート!L21,\"\")","v":""},{"$f":"IF(入力シート!M21<>\"\",入力シート!M21,\"\")","v":""},{"$f":"IF(入力シート!N21<>\"\",入力シート!N21,\"\")","v":""},{"$f":"IF(入力シート!O21<>\"\",入力シート!O21,\"\")","v":""},"供給",{"$f":"IF(入力シート!C60<>\"\",入力シート!C60,\"\")","v":""},{"$f":"IF(入力シート!D60<>\"\",入力シート!D60,\"\")","v":""},{"$f":"IF(入力シート!E60<>\"\",入力シート!E60,\"\")","v":""},{"$f":"IF(LEN(入力シート!F60)=2,LEFT(入力シート!F60,1),LEFT(入力シート!F60,3))","v":""},{"$f":"IF(入力シート!G60<>\"\",入力シート!G60,\"\")","v":""},{"$f":"IF(入力シート!H60<>\"\",入力シート!H60,\"\")","v":""},{"$f":"IF(入力シート!I60<>\"\",入力シート!I60,\"\")","v":""},{"$f":"IF(入力シート!J60<>\"\",入力シート!J60,\"\")","v":""},{"$f":"IF(入力シート!K60<>\"\",入力シート!K60,\"\")","v":""},{"$f":"IF(入力シート!L60<>\"\",入力シート!L60,\"\")","v":""},{"$f":"IF(入力シート!M60<>\"\",入力シート!M60,\"\")","v":""},{"$f":"IF(入力シート!N60<>\"\",入力シート!N60,\"\")","v":""},{"$f":"IF(入力シート!O60<>\"\",入力シート!O60,\"\")","v":""},{"$nulls":3},{"$f":"LEFT(入力シート!S60,2)","v":""},{"$f":"IF(入力シート!T60<>\"\",入力シート!T60,\"\")","v":""},{"$f":"IF(入力シート!U60<>\"\",入力シート!U60,\"\")","v":""},{"$f":"IF(入力シート!V60<>\"\",入力シート!V60,\"\")","v":""},{"$f":"IF(入力シート!W60<>\"\",入力シート!W60,\"\")","v":""},{"$f":"IF(入力シート!X60<>\"\",入力シート!X60,\"\")","v":""},{"$f":"IF(入力シート!Y60<>\"\",入力シート!Y60,\"\")","v":""}]
[]
[{"$nulls":43},{"$f":"IF(MID(入力シート!S60,3,1)=\"共\",\"共用\",MID(入力シート!S60,3,4))","v":""}]
[{"$nulls":30},{"$f":"IF(LEN(入力シート!F60)=2,RIGHT(入力シート!F60,1),MID(入力シート!F60,4,4))","v":""}]
[{"$nulls":43},{"$f":"IF(MID(入力シート!S60,3,1)=\"共\",MID(入力シート!S60,5,3),MID(入力シート!S60,7,3))","v":""}]
[]
["平面図",{"$nulls":14},{"$f":"IF(入力シート!B65<>\"\",入力シート!B65,\"\")","v":""},1,{"$nulls":10},{"$f":"IF(入力シート!C65<>\"\",入力シート!C65,\"\")","v":""},{"$f":"IF(入力シート!D65<>\"\",入力シート!D65,\"\")","v":""},{"$f":"IF(入力シート!E65<>\"\",入力シート!E65,\"\")","v":""},{"$f":"IF(LEN(入力シート!F65)=2,LEFT(入力シート!F65,1),LEFT(入力シート!F65,3))","v":""},{"$f":"IF(入力シート!G65<>\"\",入力シート!G65,\"\")","v":""},{"$f":"IF(入力シート!H65<>\"\",入力シート!H65,\"\")","v":""},{"$f":"IF(入力シート!I65<>\"\",入力シート!I65,\"\")","v":""},{"$f":"IF(入力シート!J65<>\"\",入力シート!J65,\"\")","v":""},{"$f":"IF(入力シート!K65<>\"\",入力シート!K65,\"\")","v":""},{"$f":"IF(入力シート!L65<>\"\",入力シート!L65,\"\")","v":""},{"$f":"IF(入力シート!M65<>\"\",入力シート!M65,\"\")","v":""},{"$f":"IF(入力シート!N65<>\"\",入力シート!N65,\"\")","v":""},{"$f":"IF(入力シート!O65<>\"\",入力シート!O65,\"\")","v":""},{"$nulls":3},{"$f":"LEFT(入力シート!S65,2)","v":""},{"$f":"IF(入力シート!T65<>\"\",入力シート!T65,\"\")","v":""},{"$f":"IF(入力シート!U65<>\"\",入力シート!U65,\"\")","v":""},{"$f":"IF(入力シート!V65<>\"\",入力シート!V65,\"\")","v":""},{"$f":"IF(入力シート!W65<>\"\",入力シート!W65,\"\")","v":""},{"$f":"IF(入力シート!X65<>\"\",入力シート!X65,\"\")","v":""},{"$f":"IF(入力シート!Y65<>\"\",入力シート!Y65,\"\")","v":""}]
[]
[{"$nulls":43},{"$f":"IF(MID(入力シート!S65,3,1)=\"共\",\"共用\",MID(入力シート!S65,3,4))","v":""}]
[{"$nulls":30},{"$f":"IF(LEN(入力シート!F65)=2,RIGHT(入力シート!F65,1),MID(入力シート!F65,4,4))","v":""}]
[null,"※１枚目に記載のため省略",{"$nulls":41},{"$f":"IF(MID(入力シート!S65,3,1)=\"共\",MID(入力シート!S65,5,3),MID(入力シート!S65,7,3))","v":""}]
[]
[{"$nulls":15},{"$f":"IF(入力シート!B70<>\"\",入力シート!B70,\"\")","v":""},1,{"$nulls":10},{"$f":"IF(入力シート!C70<>\"\",入力シート!C70,\"\")","v":""},{"$f":"IF(入力シート!D70<>\"\",入力シート!D70,\"\")","v":""},{"$f":"IF(入力シート!E70<>\"\",入力シート!E70,\"\")","v":""},{"$f":"IF(LEN(入力シート!F70)=2,LEFT(入力シート!F70,1),LEFT(入力シート!F70,3))","v":""},{"$f":"IF(入力シート!G70<>\"\",入力シート!G70,\"\")","v":""},{"$f":"IF(入力シート!H70<>\"\",入力シート!H70,\"\")","v":""},{"$f":"IF(入力シート!I70<>\"\",入力シート!I70,\"\")","v":""},{"$f":"IF(入力シート!J70<>\"\",入力シート!J70,\"\")","v":""},{"$f":"IF(入力シート!K70<>\"\",入力シート!K70,\"\")","v":""},{"$f":"IF(入力シート!L70<>\"\",入力シート!L70,\"\")","v":""},{"$f":"IF(入力シート!M70<>\"\",入力シート!M70,\"\")","v":""},{"$f":"IF(入力シート!N70<>\"\",入力シート!N70,\"\")","v":""},{"$f":"IF(入力シート!O70<>\"\",入力シート!O70,\"\")","v":""},{"$nulls":3},{"$f":"LEFT(入力シート!S70,2)","v":""},{"$f":"IF(入力シート!T70<>\"\",入力シート!T70,\"\")","v":""},{"$f":"IF(入力シート!U70<>\"\",入力シート!U70,\"\")","v":""},{"$f":"IF(入力シート!V70<>\"\",入力シート!V70,\"\")","v":""},{"$f":"IF(入力シート!W70<>\"\",入力シート!W70,\"\")","v":""},{"$f":"IF(入力シート!X70<>\"\",入力シート!X70,\"\")","v":""},{"$f":"IF(入力シート!Y70<>\"\",入力シート!Y70,\"\")","v":""}]
[]
[{"$nulls":43},{"$f":"IF(MID(入力シート!S70,3,1)=\"共\",\"共用\",MID(入力シート!S70,3,4))","v":""}]
[{"$nulls":30},{"$f":"IF(LEN(入力シート!F70)=2,RIGHT(入力シート!F70,1),MID(入力シート!F70,4,4))","v":""}]
[{"$nulls":43},{"$f":"IF(MID(入力シート!S70,3,1)=\"共\",MID(入力シート!S70,5,3),MID(入力シート!S70,7,3))","v":""}]
[]
[{"$nulls":15},{"$f":"IF(入力シート!B75<>\"\",入力シート!B75,\"\")","v":""},1,{"$nulls":10},{"$f":"IF(入力シート!C75<>\"\",入力シート!C75,\"\")","v":""},{"$f":"IF(入力シート!D75<>\"\",入力シート!D75,\"\")","v":""},{"$f":"IF(入力シート!E75<>\"\",入力シート!E75,\"\")","v":""},{"$f":"IF(LEN(入力シート!F75)=2,LEFT(入力シート!F75,1),LEFT(入力シート!F75,3))","v":""},{"$f":"IF(入力シート!G75<>\"\",入力シート!G75,\"\")","v":""},{"$f":"IF(入力シート!H75<>\"\",入力シート!H75,\"\")","v":""},{"$f":"IF(入力シート!I75<>\"\",入力シート!I75,\"\")","v":""},{"$f":"IF(入力シート!J75<>\"\",入力シート!J75,\"\")","v":""},{"$f":"IF(入力シート!K75<>\"\",入力シート!K75,\"\")","v":""},{"$f":"IF(入力シート!L75<>\"\",入力シート!L75,\"\")","v":""},{"$f":"IF(入力シート!M75<>\"\",入力シート!M75,\"\")","v":""},{"$f":"IF(入力シート!N75<>\"\",入力シート!N75,\"\")","v":""},{"$f":"IF(入力シート!O75<>\"\",入力シート!O75,\"\")","v":""},{"$nulls":3},{"$f":"LEFT(入力シート!S75,2)","v":""},{"$f":"IF(入力シート!T75<>\"\",入力シート!T75,\"\")","v":""},{"$f":"IF(入力シート!U75<>\"\",入力シート!U75,\"\")","v":""},{"$f":"IF(入力シート!V75<>\"\",入力シート!V75,\"\")","v":""},{"$f":"IF(入力シート!W75<>\"\",入力シート!W75,\"\")","v":""},{"$f":"IF(入力シート!X75<>\"\",入力シート!X75,\"\")","v":""},{"$f":"IF(入力シート!Y75<>\"\",入力シート!Y75,\"\")","v":""}]
[]
[{"$nulls":43},{"$f":"IF(MID(入力シート!S75,3,1)=\"共\",\"共用\",MID(入力シート!S75,3,4))","v":""}]
[{"$nulls":30},{"$f":"IF(LEN(入力シート!F75)=2,RIGHT(入力シート!F75,1),MID(入力シート!F75,4,4))","v":""}]
[{"$nulls":43},{"$f":"IF(MID(入力シート!S75,3,1)=\"共\",MID(入力シート!S75,5,3),MID(入力シート!S75,7,3))","v":""}]
[]
[{"$nulls":15},"カード№","原票区分","訂　正","付　外","引込導線",null,null,"足し（外し）線",{"$nulls":5},"接　続　替",{"$nulls":4},"部　分　修　繕",{"$nulls":7},"小　修　繕",{"$nulls":3},"活線雑作業","HS防護","承諾書取得","その他割増","違反件数","インプット\n\nチェック"]
[{"$nulls":19},"種別","太さ","箇所数","線　種","条　数","太さ",null,"総亘長",null,"種　別","条　数","太さ",null,"口　数","種　別","線　種","条　数","太さ",null,"口　数","総亘長",null,"取替種別","口　数","ケッチ\nがいし"]
[{"$nulls":43},"種別","個数"]
[]
[{"$nulls":15},14,15,16,17,18,19,20,21,22,23,24,25,26,27,28,29,30,31,32,33,34,35,36,37,38,39,40,41,42,43,44,45,46,47,48]
[{"$nulls":15},{"$f":"IF(入力シート!B97<>\"\",入力シート!B97,\"\")","v":""},2,{"$f":"IF(入力シート!C97<>\"\",入力シート!C97,\"\")","v":""},{"$f":"IF(入力シート!D97<>\"\",入力シート!D97,\"\")","v":""},{"$f":"IF(入力シート!E97<>\"\",入力シート!E97,\"\")","v":""},{"$f":"IF(入力シート!F97<>\"\",入力シート!F97,\"\")","v":""},{"$f":"IF(入力シート!G97<>\"\",入力シート!G97,\"\")","v":""},{"$f":"IF(入力シート!H97<>\"\",入力シート!H97,\"\")","v":""},{"$f":"IF(入力シート!I97<>\"\",入力シート!I97,\"\")","v":""},null,{"$f":"IF(入力シート!J97<>\"\",入力シート!J97,\"\")","v":""},{"$f":"IF(入力シート!K97<>\"\",入力シート!K97,\"\")","v":""},{"$f":"IF(入力シート!L97<>\"\",入力シート!L97,\"\")","v":""},{"$f":"IF(入力シート!M97<>\"\",入力シート!M97,\"\")","v":""},{"$f":"IF(入力シート!N97<>\"\",入力シート!N97,\"\")","v":""},null,{"$f":"IF(入力シート!O97<>\"\",入力シート!O97,\"\")","v":""},{"$f":"IF(入力シート!P97<>\"\",入力シート!P97,\"\")","v":""},{"$f":"IF(入力シート!Q97<>\"\",入力シート!Q97,\"\")","v":""},{"$f":"IF(入力シート!R97<>\"\",入力シート!R97,\"\")","v":""},{"$f":"IF(入力シート!S97<>\"\",入力シート!S97,\"\")","v":""},null,{"$f":"IF(入力シート!T97<>\"\",入力シート!T97,\"\")","v":""},{"$f":"IF(入力シート!U97<>\"\",入力シート!U97,\"\")","v":""},{"$f":"IF(入力シート!V97<>\"\",入力シート!V97,\"\")","v":""},{"$f":"IF(入力シート!W97<>\"\",入力シート!W97,\"\")","v":""},{"$f":"IF(入力シート!X97<>\"\",入力シート!X97,\"\")","v":""},{"$f":"IF(入力シート!Y97<>\"\",入力シート!Y97,\"\")","v":""},{"$f":"IF(入力シート!Z97<>\"\",入力シート!Z97,\"\")","v":""},{"$f":"IF(入力シート!AA97<>\"\",入力シート!AA97,\"\")","v":""},{"$f":"IF(入力シート!AB97<>\"\",入力シート!AB97,\"\")","v":""},{"$f":"IF(入力シート!AC97<>\"\",入力シート!AC97,\"\")","v":""},{"$f":"IF(入力シート!AD97<>\"\",入力シート!AD97,\"\")","v":""},{"$f":"IF(入力シート!AE97<>\"\",入力シート!AE97,\"\")","v":""},{"$f":"IF(入力シート!AF97<>\"\",入力シート!AF97,\"\")","v":""}]
[]
[]
[]
[]
[]
[{"$nulls":18},"道路横断の有無",{"$nulls":14},"自主検査項目",{"$nulls":5},"点検日",null,"年　　　　月　　　　日",{"$nulls":5},"点検者",{"$nulls":5},"✓"]
[{"$nulls":33},"（工事会社記入欄）"]
[{"$nulls":18},"道路上最低点",{"$nulls":4},"設計",{"$nulls":4},"工事後",{"$nulls":4},1,"キズまたはキンクのある電線を使用していないか"]
[{"$nulls":18},"地上高",{"$nulls":8},"ｍ",{"$nulls":4},"ｍ",2,"地表上の高さはよいか"]
[{"$nulls":18},"引込柱",null,null,"画",null,"区",null,"図",null,"番",null,"の",null,"号",null,3,"他物との離隔はよいか"]
[{"$nulls":33},4,"電線の接続および接続後の処理はよいか"]
[{"$nulls":33},5,"ち度は規定に適合しているか"]
[{"$nulls":18},"径間長",null,null,"単独",{"$nulls":4},"ｍ","連接",{"$nulls":4},"ｍ",6,"配色と色別区分はよいか"]
[{"$nulls":33},7,"家屋側支持点・ケーブルの取り付け工事はよいか"]
["（第一支持点、引込口位置、メッセンジャー相手柱等について記入）",{"$nulls":17},"※径間長は余長を含まない引込線長さを記入",{"$nulls":14},8,"資材は、当社指定品を使用しているか"]

{"sheet":"旧裏面資料","index":3,"n_rows":34,"n_cols":59,"rows_kept":34,"merged":[[2,1,2,8],[2,9,2,13],[2,15,22,15],[2,16,2,21],[2,22,2,27],[2,29,2,43],[2,45,2,50],[2,52,3,57],[3,1,3,8],[3,9,3,13],[3,16,4,18],[3,19,4,21],[3,22,4,24],[3,25,4,27],[3,29,4,31],[3,32,3,43],[3,45,4,47],[3,48,4,50],[4,1,4,8],[4,9,4,13],[4,32,4,35],[4,36,4,39],[4,40,4,43],[4,52,4,55],[4,56,4,57],[5,1,5,8],[5,9,5,13],[5,16,6,18],[5,19,6,21],[5,22,6,24],[5,25,6,27],[5,29,5,31],[5,32,5,35],[5,36,5,39],[5,40,5,43],[5,45,5,47],[5,48,5,50],[5,52,5,55],[5,56,5,57],[6,1,6,8],[6,9,6,13],[6,29,6,31],[6,32,6,35],[6,36,6,39],[6,40,6,43],[6,45,6,47],[6,48,6,50],[6,52,6,55],[6,56,6,57],[7,1,7,8],[7,9,7,13],[7,16,8,18],[7,19,8,21],[7,22,8,24],[7,25,8,27],[7,29,7,31],[7,32,7,35],[7,36,7,39],[7,40,7,43],[7,45,7,47],[7,48,7,50],[8,1,8,8],[8,9,8,13],[8,29,8,31],[8,32,8,35],[8,36,8,39],[8,40,8,43],[9,1,9,8],[9,9,9,13],[9,16,10,18],[9,19,10,21],[9,22,10,24],[9,25,10,27],[9,29,9,31],[9,32,9,35],[9,36,9,39],[9,40,9,43],[9,46,9,57],[10,1,10,8],[10,9,10,13],[10,29,10,31],[10,32,10,35],[10,36,10,39],[10,40,10,43],[10,46,10,48],[10,49,10,54],[10,55,10,57],[11,1,11,8],[11,9,11,13],[11,16,12,18],[11,19,12,21],[11,22,12,24],[11,25,12,27],[11,29,11,31],[11,32,11,35],[11,36,11,39],[11,40,11,43],[11,46,12,48],[11,49,11,54],[11,55,11,57],[12,29,12,31],[12,32,12,35],[12,36,12,39],[12,40,12,43],[12,49,12,54],[12,55,12,57],[13,16,14,18],[13,19,14,21],[13,22,14,24],[13,25,14,27],[13,29,13,31],[13,32,13,35],[13,36,13,39],[13,40,13,43],[13,46,14,48],[13,49,13,54],[13,55,13,57],[14,1,14,4],[14,5,14,8],[14,9,14,13],[14,29,14,31],[14,32,14,35],[14,36,14,39],[14,40,14,43],[14,49,14,54],[14,55,14,57],[15,1,17,4],[15,5,15,8],[15,9,15,13],[15,16,16,18],[15,19,16,21],[15,22,16,24],[15,25,16,27],[15,46,17,48],[15,49,15,54],[15,55,15,57],[16,5,16,8],[16,9,16,13],[16,49,16,54],[16,55,16,57],[17,5,17,8],[17,9,17,13],[17,16,18,18],[17,19,18,21],[17,22,18,24],[17,25,18,27],[17,49,17,54],[17,55,17,57],[18,1,18,4],[18,5,18,8],[18,9,18,13],[19,1,19,4],[19,5,19,8],[19,9,19,13],[19,16,20,18],[19,19,20,21],[19,22,20,24],[19,25,20,27],[20,1,20,4],[20,5,20,8],[20,9,20,13],[21,1,21,4],[21,5,21,8],[21,9,21,13],[21,16,22,18],[21,19,22,21],[21,22,22,24],[21,25,22,27],[22,1,23,4],[22,5,22,8],[22,9,22,13],[23,5,23,8],[23,9,23,13],[24,1,24,4],[24,5,24,8],[24,9,24,13],[24,26,24,29],[24,34,25,37],[24,38,25,41],[24,42,24,49],[24,50,24,57],[24,58,25,61],[25,1,25,4],[25,5,25,8],[25,9,25,13],[25,30,25,33],[25,42,25,45],[25,46,25,49],[25,50,25,53],[25,54,25,57],[26,1,26,4],[26,5,26,8],[26,9,26,13],[26,26,26,33],[26,34,26,37],[26,38,26,41],[26,42,26,45],[26,46,26,49],[26,50,26,53],[26,54,26,57],[26,58,26,61],[27,26,27,33],[27,34,27,37],[27,38,27,41],[27,42,27,45],[27,46,27,49],[27,50,27,53],[27,54,27,57],[27,58,27,61],[28,26,28,33],[28,34,28,37],[28,38,28,41],[28,42,28,45],[28,46,28,49],[28,50,28,53],[28,54,28,57],[28,58,28,61],[29,26,29,33],[29,34,29,37],[29,38,29,41],[29,42,29,45],[29,46,29,49],[29,50,29,53],[29,54,29,57],[29,58,29,61],[30,26,30,33],[30,34,30,37],[30,38,30,41],[30,42,30,45],[30,46,30,49],[30,50,30,53],[30,54,30,57],[30,58,30,61],[31,26,31,33],[31,34,31,37],[31,38,31,41],[31,42,31,45],[31,46,31,49],[31,50,31,53],[31,54,31,57],[31,58,31,61],[32,26,32,33],[32,34,32,37],[32,38,32,41],[32,42,32,45],[32,46,32,49],[32,50,32,53],[32,54,32,57],[32,58,32,61],[33,26,33,33],[33,34,33,37],[33,38,33,41],[33,42,33,45],[33,46,33,49],[33,50,33,53],[33,54,33,57],[33,58,33,61]]}
[]
[null,"方式は次による"]
[null,"方　式",{"$nulls":7},"略　号",{"$nulls":5},"連接引込線各部のアンペア・メートル","アパート・集合住宅",{"$nulls":5},"一般住宅",{"$nulls":6},"単独引込線の標準（カッコ内は単三の場合）",{"$nulls":15},"契約別需要家電流",{"$nulls":6},"蓄力コネクタ\n適合電線"]
[null,"単独直接 ",{"$nulls":7},"単　直",{"$nulls":6},"アンペア\nメートル",null,null,"引込径種",null,null,"アンペア\nメートル",null,null,"引込径種",{"$nulls":3},"契約",null,null,"引込線亘長",{"$nulls":12},"契約\nアンペア",null,null,"電流値"]
[null,"単独他社共架小",{"$nulls":7},"共　小",{"$nulls":22},"15m以下",{"$nulls":3},"25m以下",{"$nulls":3},"35m以下",{"$nulls":11},"4mm～22",{"$nulls":3},"2号"]
[null,"単独他社共架大",{"$nulls":7},"共　大",{"$nulls":6},6644,null,null,"60mm2",null,null,5316,null,null,"60mm2",{"$nulls":3},"10A以下",null,null,"2.6mm(2.6)",{"$nulls":3},"3.2mm(2.6)",{"$nulls":3},"3.2mm(2.6)",{"$nulls":4},"10A以下",null,null,"10A",{"$nulls":3},"38mm2",{"$nulls":3},"3号"]
[null,"連　接",{"$nulls":7},"連　接",{"$nulls":19},"15A以下",null,null,"2.6mm(2.6)",{"$nulls":3},"3.2mm(2.6)",{"$nulls":3},"14mm2(2.6)",{"$nulls":4},"20A",null,null,"20A",{"$nulls":3},"60mm2",{"$nulls":3},"4号"]
[null,"屋側ケーブル",{"$nulls":7},"屋　側",{"$nulls":6},5388,null,null,"60mm2\n末端は38",null,null,4311,null,null,"60mm2\n末端は38",{"$nulls":3},"20A以下",null,null,"2.6mm(2.6)",{"$nulls":3},"3.2mm(2.6)",{"$nulls":3},"14mm2(2.6)",{"$nulls":4},"30A",null,null,"28A"]
[null,"外灯引込",{"$nulls":7},"外　灯",{"$nulls":19},"30A以下",null,null,"3.2mm(2.6)",{"$nulls":3},"14mm2(3.2)",{"$nulls":3},"22mm2(3.2)"]
[null,"補助フック",{"$nulls":7},"補　フ",{"$nulls":6},4132,null,null,"38mm2",null,null,3306,null,null,"38mm2",{"$nulls":3},"40A以下",null,null,"14mm2(2.6)",{"$nulls":3},"22mm2(3.2)",{"$nulls":3},"38mm2(14)",{"$nulls":5},"アルミ締付コネクタ適合電線"]
[null,"メッセンジャーケーブル",{"$nulls":7},"メッセケーブ",{"$nulls":19},"50A以下",null,null,"14mm2(3.2)",{"$nulls":3},"22mm2(14)",{"$nulls":3},"38mm2(14)",{"$nulls":5},"低圧線",null,null,"引込線",{"$nulls":5},"コネクタ"]
[null,"メッセンジャーワイヤー",{"$nulls":7},"メッセワイヤ",{"$nulls":6},3288,null,null,"38mm2\n末端は22",null,null,2631,null,null,"38mm2\n末端は22",{"$nulls":3},"60A以下",null,null,"22mm2(3.2)",{"$nulls":3},"38mm2(14)",{"$nulls":3},"38mm2(22)",{"$nulls":5},32,null,null,"2.0mm～38mm2",{"$nulls":5},"B1"]
[{"$nulls":29},"7kW",null,null,"(3.2)",{"$nulls":3},"(14)",{"$nulls":3},"(22)",{"$nulls":8},"60mm2～100mm2",{"$nulls":5},"B2"]
[null,"方式、線種、条数の組合せ",{"$nulls":14},2444,null,null,"22mm2",null,null,1956,null,null,"22mm2",{"$nulls":3},"8kW",null,null,"(14)",{"$nulls":3},"(22)",{"$nulls":3},"(22)",{"$nulls":5},58,null,null,"2.0mm～14mm2",{"$nulls":5},"B0"]
[null,"方　式",{"$nulls":3},"線　種",{"$nulls":3},"条　数",{"$nulls":19},"9kW",null,null,"(14)",{"$nulls":3},"(22)",{"$nulls":3},"(38)",{"$nulls":8},"22mm2～100mm2",{"$nulls":5},"B2"]
[null,"単　直",{"$nulls":3},"D　V",{"$nulls":3},"２　・　３",{"$nulls":6},1997,null,null,"22mm2\n末端は14",null,null,1598,null,null,"22mm2\n末端は14",{"$nulls":20},95,null,null,"2.0mm～14mm2",{"$nulls":5},"B0"]
[{"$nulls":5},"I　V",{"$nulls":3},"１・２・３",{"$nulls":39},"22mm2～60mm2",{"$nulls":5},"B2"]
[{"$nulls":5},"O　W",{"$nulls":3},"１・２・３",{"$nulls":6},1550,null,null,"14mm2",null,null,1240,null,null,"14mm2",{"$nulls":23},"100mm2",{"$nulls":5},"適用外"]
[null,"共　小",{"$nulls":3},"D　V",{"$nulls":3},"２　・　３"]
[null,"共　大",{"$nulls":3},"D　V",{"$nulls":3},"２　・　３",{"$nulls":6},905,null,null,"3.2mm",null,null,724,null,null,"3.2mm"]
[null,"連　接",{"$nulls":3},"D　V",{"$nulls":3},"２　・　３"]
[null,"屋　側",{"$nulls":3},"V　V",{"$nulls":3},"２　・　３",{"$nulls":6},597,null,null,"2.6mm",null,null,478,null,null,"2.6mm"]
[null,"外　灯",{"$nulls":3},"D　V",{"$nulls":3},"２　・　３"]
[{"$nulls":5},"V　V",{"$nulls":3},"２　・　３"]
[null,"補　フ",{"$nulls":3},"D　V",{"$nulls":3},"２　・　３",{"$nulls":23},"負荷種別","LED灯",{"$nulls":3},"白熱灯",{"$nulls":3},"蛍光灯",{"$nulls":7},"水銀灯",{"$nulls":7},"高圧\nナトリウム灯"]
[null,"メッセケーブ",{"$nulls":3},"V　V",{"$nulls":3},"２　・　３",{"$nulls":16},"点滅器種別",{"$nulls":15},"低力率",{"$nulls":3},"高力率",{"$nulls":3},"低力率",{"$nulls":3},"高力率"]
[null,"メッセワイヤ",{"$nulls":3},"S　T",{"$nulls":3},1,{"$nulls":16},"100V　1A",{"$nulls":7},"100Wまで",{"$nulls":3},"100Wまで",{"$nulls":3},"50Wまで",{"$nulls":3},"70Wまで",{"$nulls":3},"40Wまで",{"$nulls":3},"80Wまで",{"$nulls":3},"80Wまで"]
[null,"方式２は移線の場合のみ記入する。",{"$nulls":24},"100V　3A",{"$nulls":7},"300Wまで",{"$nulls":3},"300Wまで",{"$nulls":3},"150Wまで",{"$nulls":3},"200Wまで",{"$nulls":3},"125Wまで",{"$nulls":3},"250Wまで",{"$nulls":3},"250Wまで"]
[{"$nulls":26},"100V　6A",{"$nulls":7},"600Wまで",{"$nulls":3},"600Wまで",{"$nulls":3},"300Wまで",{"$nulls":3},"400Wまで",{"$nulls":3},"300Wまで",{"$nulls":3},"400Wまで",{"$nulls":3},"400Wまで"]
[{"$nulls":26},"100V　10A",{"$nulls":7},"1000Wまで",{"$nulls":3},"1000Wまで",{"$nulls":3},"400Wまで",{"$nulls":3},"700Wまで",{"$nulls":3},"400Wまで",{"$nulls":3},"700Wまで",{"$nulls":3},"700Wまで"]
[{"$nulls":26},"200V　1A",{"$nulls":7},"200Wまで",{"$nulls":3},"-",{"$nulls":3},"-",{"$nulls":3},"-",{"$nulls":3},"100Wまで",{"$nulls":3},"130Wまで",{"$nulls":3},"130Wまで"]
[{"$nulls":26},"200V　3A",{"$nulls":7},"600Wまで",{"$nulls":3},"-",{"$nulls":3},"-",{"$nulls":3},"-",{"$nulls":3},"300Wまで",{"$nulls":3},"400Wまで",{"$nulls":3},"400Wまで"]
[{"$nulls":26},"200V　6A",{"$nulls":7},"1200Wまで",{"$nulls":3},"-",{"$nulls":3},"-",{"$nulls":3},"-",{"$nulls":3},"700Wまで",{"$nulls":3},"1000Wまで",{"$nulls":3},"1000Wまで"]
[{"$nulls":26},"200V　10A",{"$nulls":7},"2000Wまで",{"$nulls":3},"-",{"$nulls":3},"-",{"$nulls":3},"-",{"$nulls":3},"1000Wまで",{"$nulls":3},"1400Wまで",{"$nulls":3},"1400Wまで"]

{"sheet":"動作ログ","index":4,"n_rows":3,"n_cols":7,"rows_kept":3}
["処理年月日","処理時刻","処理結果","備考１","備考２"]
[]
[{"$nulls":6},"\n"]

{"sheet":"改定履歴","index":5,"n_rows":16,"n_cols":3,"rows_kept":16}
["バージョン","更新日","更新内容"]
["1.00",null,"託送Web導入に伴い新規制定"]
["2.00","2020-04-01","様式見直しに伴う改定　引込線工事実施承認書⇒引込線工事設計書"]
[null,null,"引込柱番号・工事会社コードなど数値入力をプルダウンから直接入力へ変更"]
[null,null,"施工情報（道路横断・地上高・径間長）入力欄を新設"]
[null,null,"旧裏面資料にアルミ線用締付コネクタ適合表を追加"]
["2.01","2020-09-04","各種不具合修正"]
[null,null,"原票項目・訂正欄が「追加」表示固定となっていた不具合を修正"]
[null,null,"設計書２枚目シートは必要なときのみ表示するよう動作変更"]
[null,null,"旧裏面資料に自動点滅器-LED街灯適合表を追加"]
["2.02","2020/10/8","各種不具合修正"]
[null,null,"原票区分2に入力した際OCRチェックがエラーとなる不具合を修正"]
[null,null,"電柱番号入力を各桁独立入力から12桁連続入力へ変更"]
[null,null,"事業所情報の支店ー営業支店間を１セル空けた（プルダウンボタンの隣接セル干渉回避）"]
[null,null,"平面図に取り消し記号を追加"]
["2.03","2020/10","初期化動作の不具合を修正"]

{"sheet":"コード変換","index":6,"n_rows":29,"n_cols":39,"rows_kept":29,"hidden":true,"merged":[[1,9,1,12],[1,13,1,16],[1,18,1,20],[1,21,1,23],[1,25,1,27],[1,28,1,30],[1,32,1,34],[1,35,1,37],[3,40,3,42],[4,9,7,9],[4,10,7,10],[4,11,4,14],[4,15,7,15],[4,16,7,16],[4,17,7,17],[4,18,4,26],[4,27,7,27],[4,28,7,28],[4,29,4,30],[4,31,7,31],[4,32,4,35],[5,11,7,11],[5,12,5,14],[5,18,7,18],[5,19,5,21],[5,22,7,22],[5,23,7,23],[5,24,7,24],[5,25,7,25],[5,26,7,26],[5,29,7,29],[5,30,7,30],[5,32,7,32],[5,33,7,33],[5,34,7,34],[5,35,7,35],[6,12,7,12],[6,13,7,13],[6,14,7,14],[6,19,6,20],[6,21,7,21],[20,9,23,9],[20,10,23,10],[20,11,23,11],[20,12,23,12],[20,13,20,15],[20,16,20,19],[20,20,20,23],[20,24,20,29],[20,30,20,33],[20,34,23,34],[20,35,23,35],[20,36,23,36],[20,37,23,37],[20,38,23,38],[21,13,23,13],[21,14,23,14],[21,15,23,15],[21,16,23,16],[21,17,23,17],[21,18,23,18],[21,19,23,19],[21,20,23,20],[21,21,23,21],[21,22,23,22],[21,23,23,23],[21,24,23,24],[21,25,23,25],[21,26,23,26],[21,27,23,27],[21,28,23,28],[21,29,23,29],[21,30,23,30],[21,31,23,31],[21,32,21,33],[22,32,23,32],[22,33,23,33]]}
[]
[null,"事業所",{"$f":"IF(入力シート!B10<>\"\",VLOOKUP(入力シート!B10,マスタデータ1!C8:AY21,49,FALSE),\"\")","v":""},{"$f":"IF(入力シート!D10<>\"\",入力シート!D10,\"\")","v":""},{"$f":"IF(入力シート!E10<>\"\",入力シート!E10,\"\")","v":""},{"$f":"IF(入力シート!F10<>\"\",入力シート!F10,\"\")","v":""},{"$f":"C2&D2&E2&F2","v":""},null,null,"事業所",{"$nulls":3},{"$f":"G2","v":""},{"$nulls":4},"工事会社",null,null,{"$f":"H3","v":""},{"$nulls":3},"設計書No",null,null,{"$f":"F4","v":""},{"$nulls":3},"NW受付番号"]
[null,"工事会社",{"$f":"IF(入力シート!B12<>\"\",入力シート!B12,\"\")","v":""},{"$f":"IF(入力シート!C12<>\"\",入力シート!C12,\"\")","v":""},{"$f":"IF(入力シート!E12<>\"\",入力シート!E12,\"\")","v":""},{"$f":"IF(入力シート!F12<>\"\",入力シート!F12,\"\")","v":""},{"$f":"IF(入力シート!G12<>\"\",入力シート!G12,\"\")","v":""},{"$f":"C3&D3&E3&F3&G3","v":""}]
[null,"設計書No",{"$f":"IF(入力シート!B18<>\"\",入力シート!B18,\"\")","v":""},{"$f":"IF(入力シート!C18<>\"\",入力シート!C18,\"\")","v":""},{"$f":"IF(入力シート!D18<>\"\",入力シート!D18,\"\")","v":""},{"$f":"C4&D4&E4","v":""},{"$nulls":3},"原票1"]
[null,"営業所",{"$f":"IF(入力シート!G10<>\"\",入力シート!G10,\"\")","v":""},{"$f":"IF(入力シート!H10<>\"\",入力シート!H10,\"\")","v":""},{"$f":"IF(入力シート!I10<>\"\",入力シート!I10,\"\")","v":0},{"$f":"C5&D5&E5","v":"0"},{"$nulls":3},"カード№","COPY",{"$nulls":4},"工事区分","訂　正","付　外","引　込　線",{"$nulls":8},"設計工量","供給KW","自動点滅器",null,"補助支持物数","引込アーム"]
[null,"画19,20",{"$f":"IF(入力シート!J21<>\"\",入力シート!J21,\"\")","v":""},{"$f":"IF(入力シート!K21<>\"\",入力シート!K21,\"\")","v":""},{"$f":"C6&D6","v":""},{"$nulls":6},"営業所","メッシュNo",{"$nulls":5},"灯　力","パターン",null,null,"条　数","電話防護","太　さ","口　数","総亘長",null,null,"線別","個数",null,"木柱材質","線　別","長さ","ｱｰﾑﾀｲ"]
[null,"区21,22",{"$f":"IF(入力シート!L21<>\"\",入力シート!L21,\"\")","v":""},{"$f":"IF(入力シート!M21<>\"\",入力シート!M21,\"\")","v":""},{"$f":"C7&D7","v":""},{"$nulls":7},"画","区","図",{"$nulls":4},"方式",null,"線種"]
[null,"図23,24",{"$f":"IF(入力シート!N21<>\"\",入力シート!N21,\"\")","v":""},{"$f":"IF(入力シート!O21<>\"\",入力シート!O21,\"\")","v":""},{"$f":"C8&D8","v":""},{"$nulls":14},1,2]
[null,"供給KW39,40,41",{"$f":"IF(入力シート!P40<>\"\",入力シート!P40,\"\")","v":""},{"$f":"IF(入力シート!Q40<>\"\",入力シート!Q40,\"\")","v":""},{"$f":"IF(入力シート!R40<>\"\",入力シート!R40,\"\")","v":""},{"$f":"C9&D9&E9","v":""},{"$nulls":3},14,15,16,19,21,23,25,26,27,28,29,30,31,32,33,34,35,36,38,39,42,43,44,45,46,47,48]
[{"$nulls":9},{"$f":"IF(入力シート!B40<>\"\",入力シート!B40,\"\")","v":""},null,{"$f":"F5","v":"0"},{"$f":"E6","v":""},{"$f":"E7","v":""},{"$f":"E8","v":""},null,{"$f":"IF(AND(J10<>\"\",入力シート!C40<>\"\"),1,\"\")","v":""},{"$f":"IF(AND(J10<>\"\",入力シート!D40<>\"\"),VLOOKUP(入力シート!D40,マスタデータ1!$AC$8:$AY$21,23,FALSE),\"\")","v":""},{"$f":"IF(AND(J10<>\"\",入力シート!E40<>\"\"),VLOOKUP(入力シート!E40,マスタデータ1!$AD$8:$AY$21,22,FALSE),\"\")","v":""},{"$f":"IF(AND(J10<>\"\",入力シート!F40<>\"\"),VLOOKUP(入力シート!F40,マスタデータ1!$AE$8:$AY$21,21,FALSE),\"\")","v":""},{"$f":"IF(AND(J10<>\"\",入力シート!G40<>\"\"),VLOOKUP(入力シート!G40,マスタデータ1!$AF$8:$AY$21,20,FALSE),\"\")","v":""},{"$f":"IF(AND(J10<>\"\",入力シート!H40<>\"\"),VLOOKUP(入力シート!H40,マスタデータ1!$AG$8:$AY$21,19,FALSE),\"\")","v":""},{"$f":"IF(AND(J10<>\"\",入力シート!I40<>\"\"),VLOOKUP(入力シート!I40,マスタデータ1!$AH$8:$AY$21,18,FALSE),\"\")","v":""},{"$f":"IF(AND(J10<>\"\",入力シート!J40<>\"\"),VLOOKUP(入力シート!J40,マスタデータ1!$AI$8:$AY$21,17,FALSE),\"\")","v":""},{"$f":"IF(AND(J10<>\"\",入力シート!K40<>\"\"),VLOOKUP(入力シート!K40,マスタデータ1!$AJ$8:$AY$21,16,FALSE),\"\")","v":""},{"$f":"IF(AND(J10<>\"\",入力シート!L40<>\"\"),VLOOKUP(入力シート!L40,マスタデータ1!$AK$8:$AY$21,15,FALSE),\"\")","v":""},{"$f":"IF(入力シート!N40<>\"\",入力シート!M40&入力シート!N40,\"\")","v":""},{"$f":"IF(AND(J10<>\"\",入力シート!O40<>\"\"),VLOOKUP(入力シート!O40,マスタデータ1!$AN$8:$AY$21,12,FALSE),\"\")","v":""},{"$f":"F9","v":""},{"$f":"IF(AND(J10<>\"\",入力シート!S40<>\"\"),VLOOKUP(入力シート!S40,マスタデータ1!$AR$8:$AY$21,8,FALSE),\"\")","v":""},{"$f":"IF(AND(J10<>\"\",入力シート!T40<>\"\"),VLOOKUP(入力シート!T40,マスタデータ1!$AS$8:$AY$21,7,FALSE),\"\")","v":""},{"$f":"IF(AND(J10<>\"\",入力シート!U40<>\"\"),VLOOKUP(入力シート!U40,マスタデータ1!$AT$8:$AY$21,6,FALSE),\"\")","v":""},{"$f":"IF(AND(J10<>\"\",入力シート!V40<>\"\"),VLOOKUP(入力シート!V40,マスタデータ1!$AU$8:$AY$21,5,FALSE),\"\")","v":""},{"$f":"IF(AND(J10<>\"\",入力シート!W40<>\"\"),VLOOKUP(入力シート!W40,マスタデータ1!$AV$8:$AY$21,4,FALSE),\"\")","v":""},{"$f":"IF(AND(J10<>\"\",入力シート!X40<>\"\"),VLOOKUP(入力シート!X40,マスタデータ1!$AW$8:$AY$21,3,FALSE),\"\")","v":""},{"$f":"IF(AND(J10<>\"\",入力シート!Y40<>\"\"),VLOOKUP(入力シート!Y40,マスタデータ1!$AX$8:$AY$21,2,FALSE),\"\")","v":""}]
[{"$nulls":9},{"$f":"IF(入力シート!B45<>\"\",入力シート!B45,\"\")","v":""},{"$nulls":6},{"$f":"IF(AND(J11<>\"\",入力シート!C45<>\"\"),1,\"\")","v":""},{"$f":"IF(AND(J11<>\"\",入力シート!D45<>\"\"),VLOOKUP(入力シート!D45,マスタデータ1!$AC$8:$AY$21,23,FALSE),\"\")","v":""},{"$f":"IF(AND(J11<>\"\",入力シート!E45<>\"\"),VLOOKUP(入力シート!E45,マスタデータ1!$AD$8:$AY$21,22,FALSE),\"\")","v":""},{"$f":"IF(AND(J11<>\"\",入力シート!F45<>\"\"),VLOOKUP(入力シート!F45,マスタデータ1!$AE$8:$AY$21,21,FALSE),\"\")","v":""},{"$f":"IF(AND(J11<>\"\",入力シート!G45<>\"\"),VLOOKUP(入力シート!G45,マスタデータ1!$AF$8:$AY$21,20,FALSE),\"\")","v":""},{"$f":"IF(AND(J11<>\"\",入力シート!H45<>\"\"),VLOOKUP(入力シート!H45,マスタデータ1!$AG$8:$AY$21,19,FALSE),\"\")","v":""},{"$f":"IF(AND(J11<>\"\",入力シート!I45<>\"\"),VLOOKUP(入力シート!I45,マスタデータ1!$AH$8:$AY$21,18,FALSE),\"\")","v":""},{"$f":"IF(AND(J11<>\"\",入力シート!J45<>\"\"),VLOOKUP(入力シート!J45,マスタデータ1!$AI$8:$AY$21,17,FALSE),\"\")","v":""},{"$f":"IF(AND(J11<>\"\",入力シート!K45<>\"\"),VLOOKUP(入力シート!K45,マスタデータ1!$AJ$8:$AY$21,16,FALSE),\"\")","v":""},{"$f":"IF(AND(J11<>\"\",入力シート!L45<>\"\"),VLOOKUP(入力シート!L45,マスタデータ1!$AK$8:$AY$21,15,FALSE),\"\")","v":""},{"$f":"IF(AND(J11<>\"\",入力シート!N45<>\"\"),入力シート!M45&入力シート!N45,\"\")","v":""},{"$f":"IF(AND(J11<>\"\",入力シート!O45<>\"\"),VLOOKUP(入力シート!O45,マスタデータ1!$AN$8:$AY$21,12,FALSE),\"\")","v":""},null,{"$f":"IF(AND(J11<>\"\",入力シート!S45<>\"\"),VLOOKUP(入力シート!S45,マスタデータ1!$AR$8:$AY$21,8,FALSE),\"\")","v":""},{"$f":"IF(AND(J11<>\"\",入力シート!T45<>\"\"),VLOOKUP(入力シート!T45,マスタデータ1!$AS$8:$AY$21,7,FALSE),\"\")","v":""},{"$f":"IF(AND(J11<>\"\",入力シート!U45<>\"\"),VLOOKUP(入力シート!U45,マスタデータ1!$AT$8:$AY$21,6,FALSE),\"\")","v":""},{"$f":"IF(AND(J11<>\"\",入力シート!V45<>\"\"),VLOOKUP(入力シート!V45,マスタデータ1!$AU$8:$AY$21,5,FALSE),\"\")","v":""},{"$f":"IF(AND(J11<>\"\",入力シート!W45<>\"\"),VLOOKUP(入力シート!W45,マスタデータ1!$AV$8:$AY$21,4,FALSE),\"\")","v":""},{"$f":"IF(AND(J11<>\"\",入力シート!X45<>\"\"),VLOOKUP(入力シート!X45,マスタデータ1!$AW$8:$AY$21,3,FALSE),\"\")","v":""},{"$f":"IF(AND(J11<>\"\",入力シート!Y45<>\"\"),VLOOKUP(入力シート!Y45,マスタデータ1!$AX$8:$AY$21,2,FALSE),\"\")","v":""}]
[{"$nulls":9},{"$f":"IF(入力シート!B50<>\"\",入力シート!B50,\"\")","v":""},{"$nulls":6},{"$f":"IF(AND(J12<>\"\",入力シート!C50<>\"\"),1,\"\")","v":""},{"$f":"IF(AND(J12<>\"\",入力シート!D50<>\"\"),VLOOKUP(入力シート!D50,マスタデータ1!$AC$8:$AY$21,23,FALSE),\"\")","v":""},{"$f":"IF(AND(J12<>\"\",入力シート!E50<>\"\"),VLOOKUP(入力シート!E50,マスタデータ1!$AD$8:$AY$21,22,FALSE),\"\")","v":""},{"$f":"IF(AND(J12<>\"\",入力シート!F50<>\"\"),VLOOKUP(入力シート!F50,マスタデータ1!$AE$8:$AY$21,21,FALSE),\"\")","v":""},{"$f":"IF(AND(J12<>\"\",入力シート!G50<>\"\"),VLOOKUP(入力シート!G50,マスタデータ1!$AF$8:$AY$21,20,FALSE),\"\")","v":""},{"$f":"IF(AND(J12<>\"\",入力シート!H50<>\"\"),VLOOKUP(入力シート!H50,マスタデータ1!$AG$8:$AY$21,19,FALSE),\"\")","v":""},{"$f":"IF(AND(J12<>\"\",入力シート!I50<>\"\"),VLOOKUP(入力シート!I50,マスタデータ1!$AH$8:$AY$21,18,FALSE),\"\")","v":""},{"$f":"IF(AND(J12<>\"\",入力シート!J50<>\"\"),VLOOKUP(入力シート!J50,マスタデータ1!$AI$8:$AY$21,17,FALSE),\"\")","v":""},{"$f":"IF(AND(J12<>\"\",入力シート!K50<>\"\"),VLOOKUP(入力シート!K50,マスタデータ1!$AJ$8:$AY$21,16,FALSE),\"\")","v":""},{"$f":"IF(AND(J12<>\"\",入力シート!L50<>\"\"),VLOOKUP(入力シート!L50,マスタデータ1!$AK$8:$AY$21,15,FALSE),\"\")","v":""},{"$f":"IF(AND(J12<>\"\",入力シート!N50<>\"\"),入力シート!M50&入力シート!N50,\"\")","v":""},{"$f":"IF(AND(J12<>\"\",入力シート!O50<>\"\"),VLOOKUP(入力シート!O50,マスタデータ1!$AN$8:$AY$21,12,FALSE),\"\")","v":""},null,{"$f":"IF(AND(J12<>\"\",入力シート!S50<>\"\"),VLOOKUP(入力シート!S50,マスタデータ1!$AR$8:$AY$21,8,FALSE),\"\")","v":""},{"$f":"IF(AND(J12<>\"\",入力シート!T50<>\"\"),VLOOKUP(入力シート!T50,マスタデータ1!$AS$8:$AY$21,7,FALSE),\"\")","v":""},{"$f":"IF(AND(J12<>\"\",入力シート!U50<>\"\"),VLOOKUP(入力シート!U50,マスタデータ1!$AT$8:$AY$21,6,FALSE),\"\")","v":""},{"$f":"IF(AND(J12<>\"\",入力シート!V50<>\"\"),VLOOKUP(入力シート!V50,マスタデータ1!$AU$8:$AY$21,5,FALSE),\"\")","v":""},{"$f":"IF(AND(J12<>\"\",入力シート!W50<>\"\"),VLOOKUP(入力シート!W50,マスタデータ1!$AV$8:$AY$21,4,FALSE),\"\")","v":""},{"$f":"IF(AND(J12<>\"\",入力シート!X50<>\"\"),VLOOKUP(入力シート!X50,マスタデータ1!$AW$8:$AY$21,3,FALSE),\"\")","v":""},{"$f":"IF(AND(J12<>\"\",入力シート!Y50<>\"\"),VLOOKUP(入力シート!Y50,マスタデータ1!$AX$8:$AY$21,2,FALSE),\"\")","v":""}]
[{"$nulls":9},{"$f":"IF(入力シート!B55<>\"\",入力シート!B55,\"\")","v":""},{"$nulls":6},{"$f":"IF(AND(J13<>\"\",入力シート!C55<>\"\"),1,\"\")","v":""},{"$f":"IF(AND(J13<>\"\",入力シート!D55<>\"\"),VLOOKUP(入力シート!D55,マスタデータ1!$AC$8:$AY$21,23,FALSE),\"\")","v":""},{"$f":"IF(AND(J13<>\"\",入力シート!E55<>\"\"),VLOOKUP(入力シート!E55,マスタデータ1!$AD$8:$AY$21,22,FALSE),\"\")","v":""},{"$f":"IF(AND(J13<>\"\",入力シート!F55<>\"\"),VLOOKUP(入力シート!F55,マスタデータ1!$AE$8:$AY$21,21,FALSE),\"\")","v":""},{"$f":"IF(AND(J13<>\"\",入力シート!G55<>\"\"),VLOOKUP(入力シート!G55,マスタデータ1!$AF$8:$AY$21,20,FALSE),\"\")","v":""},{"$f":"IF(AND(J13<>\"\",入力シート!H55<>\"\"),VLOOKUP(入力シート!H55,マスタデータ1!$AG$8:$AY$21,19,FALSE),\"\")","v":""},{"$f":"IF(AND(J13<>\"\",入力シート!I55<>\"\"),VLOOKUP(入力シート!I55,マスタデータ1!$AH$8:$AY$21,18,FALSE),\"\")","v":""},{"$f":"IF(AND(J13<>\"\",入力シート!J55<>\"\"),VLOOKUP(入力シート!J55,マスタデータ1!$AI$8:$AY$21,17,FALSE),\"\")","v":""},{"$f":"IF(AND(J13<>\"\",入力シート!K55<>\"\"),VLOOKUP(入力シート!K55,マスタデータ1!$AJ$8:$AY$21,16,FALSE),\"\")","v":""},{"$f":"IF(AND(J13<>\"\",入力シート!L55<>\"\"),VLOOKUP(入力シート!L55,マスタデータ1!$AK$8:$AY$21,15,FALSE),\"\")","v":""},{"$f":"IF(AND(J13<>\"\",入力シート!N55<>\"\"),入力シート!M55&入力シート!N55,\"\")","v":""},{"$f":"IF(AND(J13<>\"\",入力シート!O55<>\"\"),VLOOKUP(入力シート!O55,マスタデータ1!$AN$8:$AY$21,12,FALSE),\"\")","v":""},null,{"$f":"IF(AND(J13<>\"\",入力シート!S55<>\"\"),VLOOKUP(入力シート!S55,マスタデータ1!$AR$8:$AY$21,8,FALSE),\"\")","v":""},{"$f":"IF(AND(J13<>\"\",入力シート!T55<>\"\"),VLOOKUP(入力シート!T55,マスタデータ1!$AS$8:$AY$21,7,FALSE),\"\")","v":""},{"$f":"IF(AND(J13<>\"\",入力シート!U55<>\"\"),VLOOKUP(入力シート!U55,マスタデータ1!$AT$8:$AY$21,6,FALSE),\"\")","v":""},{"$f":"IF(AND(J13<>\"\",入力シート!V55<>\"\"),VLOOKUP(入力シート!V55,マスタデータ1!$AU$8:$AY$21,5,FALSE),\"\")","v":""},{"$f":"IF(AND(J13<>\"\",入力シート!W55<>\"\"),VLOOKUP(入力シート!W55,マスタデータ1!$AV$8:$AY$21,4,FALSE),\"\")","v":""},{"$f":"IF(AND(J13<>\"\",入力シート!X55<>\"\"),VLOOKUP(入力シート!X55,マスタデータ1!$AW$8:$AY$21,3,FALSE),\"\")","v":""},{"$f":"IF(AND(J13<>\"\",入力シート!Y55<>\"\"),VLOOKUP(入力シート!Y55,マスタデータ1!$AX$8:$AY$21,2,FALSE),\"\")","v":""}]
[{"$nulls":9},{"$f":"IF(入力シート!B60<>\"\",入力シート!B60,\"\")","v":""},{"$nulls":6},{"$f":"IF(AND(J14<>\"\",入力シート!C60<>\"\"),1,\"\")","v":""},{"$f":"IF(AND(J14<>\"\",入力シート!D60<>\"\"),VLOOKUP(入力シート!D60,マスタデータ1!$AC$8:$AY$21,23,FALSE),\"\")","v":""},{"$f":"IF(AND(J14<>\"\",入力シート!E60<>\"\"),VLOOKUP(入力シート!E60,マスタデータ1!$AD$8:$AY$21,22,FALSE),\"\")","v":""},{"$f":"IF(AND(J14<>\"\",入力シート!F60<>\"\"),VLOOKUP(入力シート!F60,マスタデータ1!$AE$8:$AY$21,21,FALSE),\"\")","v":""},{"$f":"IF(AND(J14<>\"\",入力シート!G60<>\"\"),VLOOKUP(入力シート!G60,マスタデータ1!$AF$8:$AY$21,20,FALSE),\"\")","v":""},{"$f":"IF(AND(J14<>\"\",入力シート!H60<>\"\"),VLOOKUP(入力シート!H60,マスタデータ1!$AG$8:$AY$21,19,FALSE),\"\")","v":""},{"$f":"IF(AND(J14<>\"\",入力シート!I60<>\"\"),VLOOKUP(入力シート!I60,マスタデータ1!$AH$8:$AY$21,18,FALSE),\"\")","v":""},{"$f":"IF(AND(J14<>\"\",入力シート!J60<>\"\"),VLOOKUP(入力シート!J60,マスタデータ1!$AI$8:$AY$21,17,FALSE),\"\")","v":""},{"$f":"IF(AND(J14<>\"\",入力シート!K60<>\"\"),VLOOKUP(入力シート!K60,マスタデータ1!$AJ$8:$AY$21,16,FALSE),\"\")","v":""},{"$f":"IF(AND(J14<>\"\",入力シート!L60<>\"\"),VLOOKUP(入力シート!L60,マスタデータ1!$AK$8:$AY$21,15,FALSE),\"\")","v":""},{"$f":"IF(AND(J14<>\"\",入力シート!N60<>\"\"),入力シート!M60&入力シート!N60,\"\")","v":""},{"$f":"IF(AND(J14<>\"\",入力シート!O60<>\"\"),VLOOKUP(入力シート!O60,マスタデータ1!$AN$8:$AY$21,12,FALSE),\"\")","v":""},null,{"$f":"IF(AND(J14<>\"\",入力シート!S60<>\"\"),VLOOKUP(入力シート!S60,マスタデータ1!$AR$8:$AY$21,8,FALSE),\"\")","v":""},{"$f":"IF(AND(J14<>\"\",入力シート!T60<>\"\"),VLOOKUP(入力シート!T60,マスタデータ1!$AS$8:$AY$21,7,FALSE),\"\")","v":""},{"$f":"IF(AND(J14<>\"\",入力シート!U60<>\"\"),VLOOKUP(入力シート!U60,マスタデータ1!$AT$8:$AY$21,6,FALSE),\"\")","v":""},{"$f":"IF(AND(J14<>\"\",入力シート!V60<>\"\"),VLOOKUP(入力シート!V60,マスタデータ1!$AU$8:$AY$21,5,FALSE),\"\")","v":""},{"$f":"IF(AND(J14<>\"\",入力シート!W60<>\"\"),VLOOKUP(入力シート!W60,マスタデータ1!$AV$8:$AY$21,4,FALSE),\"\")","v":""},{"$f":"IF(AND(J14<>\"\",入力シート!X60<>\"\"),VLOOKUP(入力シート!X60,マスタデータ1!$AW$8:$AY$21,3,FALSE),\"\")","v":""},{"$f":"IF(AND(J14<>\"\",入力シート!Y60<>\"\"),VLOOKUP(入力シート!Y60,マスタデータ1!$AX$8:$AY$21,2,FALSE),\"\")","v":""}]
[{"$nulls":9},{"$f":"IF(入力シート!B65<>\"\",入力シート!B65,\"\")","v":""},{"$nulls":6},{"$f":"IF(AND(J15<>\"\",入力シート!C65<>\"\"),1,\"\")","v":""},{"$f":"IF(AND(J15<>\"\",入力シート!D65<>\"\"),VLOOKUP(入力シート!D65,マスタデータ1!$AC$8:$AY$21,23,FALSE),\"\")","v":""},{"$f":"IF(AND(J15<>\"\",入力シート!E65<>\"\"),VLOOKUP(入力シート!E65,マスタデータ1!$AD$8:$AY$21,22,FALSE),\"\")","v":""},{"$f":"IF(AND(J15<>\"\",入力シート!F65<>\"\"),VLOOKUP(入力シート!F65,マスタデータ1!$AE$8:$AY$21,21,FALSE),\"\")","v":""},{"$f":"IF(AND(J15<>\"\",入力シート!G65<>\"\"),VLOOKUP(入力シート!G65,マスタデータ1!$AF$8:$AY$21,20,FALSE),\"\")","v":""},{"$f":"IF(AND(J15<>\"\",入力シート!H65<>\"\"),VLOOKUP(入力シート!H65,マスタデータ1!$AG$8:$AY$21,19,FALSE),\"\")","v":""},{"$f":"IF(AND(J15<>\"\",入力シート!I65<>\"\"),VLOOKUP(入力シート!I65,マスタデータ1!$AH$8:$AY$21,18,FALSE),\"\")","v":""},{"$f":"IF(AND(J15<>\"\",入力シート!J65<>\"\"),VLOOKUP(入力シート!J65,マスタデータ1!$AI$8:$AY$21,17,FALSE),\"\")","v":""},{"$f":"IF(AND(J15<>\"\",入力シート!K65<>\"\"),VLOOKUP(入力シート!K65,マスタデータ1!$AJ$8:$AY$21,16,FALSE),\"\")","v":""},{"$f":"IF(AND(J15<>\"\",入力シート!L65<>\"\"),VLOOKUP(入力シート!L65,マスタデータ1!$AK$8:$AY$21,15,FALSE),\"\")","v":""},{"$f":"IF(AND(J15<>\"\",入力シート!N65<>\"\"),入力シート!M65&入力シート!N65,\"\")","v":""},{"$f":"IF(AND(J15<>\"\",入力シート!O65<>\"\"),VLOOKUP(入力シート!O65,マスタデータ1!$AN$8:$AY$21,12,FALSE),\"\")","v":""},null,{"$f":"IF(AND(J15<>\"\",入力シート!S65<>\"\"),VLOOKUP(入力シート!S65,マスタデータ1!$AR$8:$AY$21,8,FALSE),\"\")","v":""},{"$f":"IF(AND(J15<>\"\",入力シート!T65<>\"\"),VLOOKUP(入力シート!T65,マスタデータ1!$AS$8:$AY$21,7,FALSE),\"\")","v":""},{"$f":"IF(AND(J15<>\"\",入力シート!U65<>\"\"),VLOOKUP(入力シート!U65,マスタデータ1!$AT$8:$AY$21,6,FALSE),\"\")","v":""},{"$f":"IF(AND(J15<>\"\",入力シート!V65<>\"\"),VLOOKUP(入力シート!V65,マスタデータ1!$AU$8:$AY$21,5,FALSE),\"\")","v":""},{"$f":"IF(AND(J15<>\"\",入力シート!W65<>\"\"),VLOOKUP(入力シート!W65,マスタデータ1!$AV$8:$AY$21,4,FALSE),\"\")","v":""},{"$f":"IF(AND(J15<>\"\",入力シート!X65<>\"\"),VLOOKUP(入力シート!X65,マスタデータ1!$AW$8:$AY$21,3,FALSE),\"\")","v":""},{"$f":"IF(AND(J15<>\"\",入力シート!Y65<>\"\"),VLOOKUP(入力シート!Y65,マスタデータ1!$AX$8:$AY$21,2,FALSE),\"\")","v":""}]
[{"$nulls":9},{"$f":"IF(入力シート!B70<>\"\",入力シート!B70,\"\")","v":""},{"$nulls":6},{"$f":"IF(AND(J16<>\"\",入力シート!C70<>\"\"),1,\"\")","v":""},{"$f":"IF(AND(J16<>\"\",入力シート!D70<>\"\"),VLOOKUP(入力シート!D70,マスタデータ1!$AC$8:$AY$21,23,FALSE),\"\")","v":""},{"$f":"IF(AND(J16<>\"\",入力シート!E70<>\"\"),VLOOKUP(入力シート!E70,マスタデータ1!$AD$8:$AY$21,22,FALSE),\"\")","v":""},{"$f":"IF(AND(J16<>\"\",入力シート!F70<>\"\"),VLOOKUP(入力シート!F70,マスタデータ1!$AE$8:$AY$21,21,FALSE),\"\")","v":""},{"$f":"IF(AND(J16<>\"\",入力シート!G70<>\"\"),VLOOKUP(入力シート!G70,マスタデータ1!$AF$8:$AY$21,20,FALSE),\"\")","v":""},{"$f":"IF(AND(J16<>\"\",入力シート!H70<>\"\"),VLOOKUP(入力シート!H70,マスタデータ1!$AG$8:$AY$21,19,FALSE),\"\")","v":""},{"$f":"IF(AND(J16<>\"\",入力シート!I70<>\"\"),VLOOKUP(入力シート!I70,マスタデータ1!$AH$8:$AY$21,18,FALSE),\"\")","v":""},{"$f":"IF(AND(J16<>\"\",入力シート!J70<>\"\"),VLOOKUP(入力シート!J70,マスタデータ1!$AI$8:$AY$21,17,FALSE),\"\")","v":""},{"$f":"IF(AND(J16<>\"\",入力シート!K70<>\"\"),VLOOKUP(入力シート!K70,マスタデータ1!$AJ$8:$AY$21,16,FALSE),\"\")","v":""},{"$f":"IF(AND(J16<>\"\",入力シート!L70<>\"\"),VLOOKUP(入力シート!L70,マスタデータ1!$AK$8:$AY$21,15,FALSE),\"\")","v":""},{"$f":"IF(AND(J16<>\"\",入力シート!N70<>\"\"),入力シート!M70&入力シート!N70,\"\")","v":""},{"$f":"IF(AND(J16<>\"\",入力シート!O70<>\"\"),VLOOKUP(入力シート!O70,マスタデータ1!$AN$8:$AY$21,12,FALSE),\"\")","v":""},null,{"$f":"IF(AND(J16<>\"\",入力シート!S70<>\"\"),VLOOKUP(入力シート!S70,マスタデータ1!$AR$8:$AY$21,8,FALSE),\"\")","v":""},{"$f":"IF(AND(J16<>\"\",入力シート!T70<>\"\"),VLOOKUP(入力シート!T70,マスタデータ1!$AS$8:$AY$21,7,FALSE),\"\")","v":""},{"$f":"IF(AND(J16<>\"\",入力シート!U70<>\"\"),VLOOKUP(入力シート!U70,マスタデータ1!$AT$8:$AY$21,6,FALSE),\"\")","v":""},{"$f":"IF(AND(J16<>\"\",入力シート!V70<>\"\"),VLOOKUP(入力シート!V70,マスタデータ1!$AU$8:$AY$21,5,FALSE),\"\")","v":""},{"$f":"IF(AND(J16<>\"\",入力シート!W70<>\"\"),VLOOKUP(入力シート!W70,マスタデータ1!$AV$8:$AY$21,4,FALSE),\"\")","v":""},{"$f":"IF(AND(J16<>\"\",入力シート!X70<>\"\"),VLOOKUP(入力シート!X70,マスタデータ1!$AW$8:$AY$21,3,FALSE),\"\")","v":""},{"$f":"IF(AND(J16<>\"\",入力シート!Y70<>\"\"),VLOOKUP(入力シート!Y70,マスタデータ1!$AX$8:$AY$21,2,FALSE),\"\")","v":""}]
[{"$nulls":9},{"$f":"IF(入力シート!B75<>\"\",入力シート!B75,\"\")","v":""},{"$nulls":6},{"$f":"IF(AND(J17<>\"\",入力シート!C75<>\"\"),1,\"\")","v":""},{"$f":"IF(AND(J17<>\"\",入力シート!D75<>\"\"),VLOOKUP(入力シート!D75,マスタデータ1!$AC$8:$AY$21,23,FALSE),\"\")","v":""},{"$f":"IF(AND(J17<>\"\",入力シート!E75<>\"\"),VLOOKUP(入力シート!E75,マスタデータ1!$AD$8:$AY$21,22,FALSE),\"\")","v":""},{"$f":"IF(AND(J17<>\"\",入力シート!F75<>\"\"),VLOOKUP(入力シート!F75,マスタデータ1!$AE$8:$AY$21,21,FALSE),\"\")","v":""},{"$f":"IF(AND(J17<>\"\",入力シート!G75<>\"\"),VLOOKUP(入力シート!G75,マスタデータ1!$AF$8:$AY$21,20,FALSE),\"\")","v":""},{"$f":"IF(AND(J17<>\"\",入力シート!H75<>\"\"),VLOOKUP(入力シート!H75,マスタデータ1!$AG$8:$AY$21,19,FALSE),\"\")","v":""},{"$f":"IF(AND(J17<>\"\",入力シート!I75<>\"\"),VLOOKUP(入力シート!I75,マスタデータ1!$AH$8:$AY$21,18,FALSE),\"\")","v":""},{"$f":"IF(AND(J17<>\"\",入力シート!J75<>\"\"),VLOOKUP(入力シート!J75,マスタデータ1!$AI$8:$AY$21,17,FALSE),\"\")","v":""},{"$f":"IF(AND(J17<>\"\",入力シート!K75<>\"\"),VLOOKUP(入力シート!K75,マスタデータ1!$AJ$8:$AY$21,16,FALSE),\"\")","v":""},{"$f":"IF(AND(J17<>\"\",入力シート!L75<>\"\"),VLOOKUP(入力シート!L75,マスタデータ1!$AK$8:$AY$21,15,FALSE),\"\")","v":""},{"$f":"IF(AND(J17<>\"\",入力シート!N75<>\"\"),入力シート!M75&入力シート!N75,\"\")","v":""},{"$f":"IF(AND(J17<>\"\",入力シート!O75<>\"\"),VLOOKUP(入力シート!O75,マスタデータ1!$AN$8:$AY$21,12,FALSE),\"\")","v":""},null,{"$f":"IF(AND(J17<>\"\",入力シート!S75<>\"\"),VLOOKUP(入力シート!S75,マスタデータ1!$AR$8:$AY$21,8,FALSE),\"\")","v":""},{"$f":"IF(AND(J17<>\"\",入力シート!T75<>\"\"),VLOOKUP(入力シート!T75,マスタデータ1!$AS$8:$AY$21,7,FALSE),\"\")","v":""},{"$f":"IF(AND(J17<>\"\",入力シート!U75<>\"\"),VLOOKUP(入力シート!U75,マスタデータ1!$AT$8:$AY$21,6,FALSE),\"\")","v":""},{"$f":"IF(AND(J17<>\"\",入力シート!V75<>\"\"),VLOOKUP(入力シート!V75,マスタデータ1!$AU$8:$AY$21,5,FALSE),\"\")","v":""},{"$f":"IF(AND(J17<>\"\",入力シート!W75<>\"\"),VLOOKUP(入力シート!W75,マスタデータ1!$AV$8:$AY$21,4,FALSE),\"\")","v":""},{"$f":"IF(AND(J17<>\"\",入力シート!X75<>\"\"),VLOOKUP(入力シート!X75,マスタデータ1!$AW$8:$AY$21,3,FALSE),\"\")","v":""},{"$f":"IF(AND(J17<>\"\",入力シート!Y75<>\"\"),VLOOKUP(入力シート!Y75,マスタデータ1!$AX$8:$AY$21,2,FALSE),\"\")","v":""}]
[{"$nulls":9},{"$f":"IF(入力シート!B80<>\"\",入力シート!B80,\"\")","v":""},{"$nulls":6},{"$f":"IF(AND(J18<>\"\",入力シート!C80<>\"\"),1,\"\")","v":""},{"$f":"IF(AND(J18<>\"\",入力シート!D80<>\"\"),VLOOKUP(入力シート!D80,マスタデータ1!$AC$8:$AY$21,23,FALSE),\"\")","v":""},{"$f":"IF(AND(J18<>\"\",入力シート!E80<>\"\"),VLOOKUP(入力シート!E80,マスタデータ1!$AD$8:$AY$21,22,FALSE),\"\")","v":""},{"$f":"IF(AND(J18<>\"\",入力シート!F80<>\"\"),VLOOKUP(入力シート!F80,マスタデータ1!$AE$8:$AY$21,21,FALSE),\"\")","v":""},{"$f":"IF(AND(J18<>\"\",入力シート!G80<>\"\"),VLOOKUP(入力シート!G80,マスタデータ1!$AF$8:$AY$21,20,FALSE),\"\")","v":""},{"$f":"IF(AND(J18<>\"\",入力シート!H80<>\"\"),VLOOKUP(入力シート!H80,マスタデータ1!$AG$8:$AY$21,19,FALSE),\"\")","v":""},{"$f":"IF(AND(J18<>\"\",入力シート!I80<>\"\"),VLOOKUP(入力シート!I80,マスタデータ1!$AH$8:$AY$21,18,FALSE),\"\")","v":""},{"$f":"IF(AND(J18<>\"\",入力シート!J80<>\"\"),VLOOKUP(入力シート!J80,マスタデータ1!$AI$8:$AY$21,17,FALSE),\"\")","v":""},{"$f":"IF(AND(J18<>\"\",入力シート!K80<>\"\"),VLOOKUP(入力シート!K80,マスタデータ1!$AJ$8:$AY$21,16,FALSE),\"\")","v":""},{"$f":"IF(AND(J18<>\"\",入力シート!L80<>\"\"),VLOOKUP(入力シート!L80,マスタデータ1!$AK$8:$AY$21,15,FALSE),\"\")","v":""},{"$f":"IF(AND(J18<>\"\",入力シート!N80<>\"\"),入力シート!M80&入力シート!N80,\"\")","v":""},{"$f":"IF(AND(J18<>\"\",入力シート!O80<>\"\"),VLOOKUP(入力シート!O80,マスタデータ1!$AN$8:$AY$21,12,FALSE),\"\")","v":""},null,{"$f":"IF(AND(J18<>\"\",入力シート!S80<>\"\"),VLOOKUP(入力シート!S80,マスタデータ1!$AR$8:$AY$21,8,FALSE),\"\")","v":""},{"$f":"IF(AND(J18<>\"\",入力シート!T80<>\"\"),VLOOKUP(入力シート!T80,マスタデータ1!$AS$8:$AY$21,7,FALSE),\"\")","v":""},{"$f":"IF(AND(J18<>\"\",入力シート!U80<>\"\"),VLOOKUP(入力シート!U80,マスタデータ1!$AT$8:$AY$21,6,FALSE),\"\")","v":""},{"$f":"IF(AND(J18<>\"\",入力シート!V80<>\"\"),VLOOKUP(入力シート!V80,マスタデータ1!$AU$8:$AY$21,5,FALSE),\"\")","v":""},{"$f":"IF(AND(J18<>\"\",入力シート!W80<>\"\"),VLOOKUP(入力シート!W80,マスタデータ1!$AV$8:$AY$21,4,FALSE),\"\")","v":""},{"$f":"IF(AND(J18<>\"\",入力シート!X80<>\"\"),VLOOKUP(入力シート!X80,マスタデータ1!$AW$8:$AY$21,3,FALSE),\"\")","v":""},{"$f":"IF(AND(J18<>\"\",入力シート!Y80<>\"\"),VLOOKUP(入力シート!Y80,マスタデータ1!$AX$8:$AY$21,2,FALSE),\"\")","v":""}]
[]
[{"$nulls":9},"原票2"]
[{"$nulls":9},"カード№","COPY","訂　正","付　外","引込導線",null,null,"足し（外し）線",{"$nulls":3},"接　続　替",{"$nulls":3},"部　分　修　繕",{"$nulls":5},"小　修　繕",{"$nulls":3},"活線雑作業","HS防護","承諾書取得","その他割増","違反件数"]
[{"$nulls":13},"種別","太さ","箇所数","線　種","条　数","太さ","総亘長","種　別","条　数","太さ","口　数","種　別","線　種","条　数","太さ","口　数","総亘長","取替種別","口　数","ケッチ､がいし"]
[{"$nulls":32},"種別","個数"]
[]
[{"$nulls":9},14,15,16,17,18,19,20,21,22,23,25,27,28,29,31,32,33,34,35,37,38,40,41,42,43,44,45,46,47,48]
[{"$nulls":9},{"$f":"IF(入力シート!B92<>\"\",入力シート!B92,\"\")","v":""},null,{"$f":"IF(AND(J26<>\"\",入力シート!C92<>\"\"),1,\"\")","v":""},{"$f":"IF(AND(J26<>\"\",入力シート!D92<>\"\"),VLOOKUP(入力シート!D92,マスタデータ1!$S$28:$AY$41,33,FALSE),\"\")","v":""},{"$f":"IF(AND(J26<>\"\",入力シート!E92<>\"\"),VLOOKUP(入力シート!E92,マスタデータ1!$T$28:$AY$41,32,FALSE),\"\")","v":""},{"$f":"IF(AND(J26<>\"\",入力シート!F92<>\"\"),VLOOKUP(入力シート!F92,マスタデータ1!$U$28:$AY$41,31,FALSE),\"\")","v":""},{"$f":"IF(AND(J26<>\"\",入力シート!G92<>\"\"),VLOOKUP(入力シート!G92,マスタデータ1!$V$28:$AY$41,30,FALSE),\"\")","v":""},{"$f":"IF(AND(J26<>\"\",入力シート!H92<>\"\"),VLOOKUP(入力シート!H92,マスタデータ1!$W$28:$AY$41,29,FALSE),\"\")","v":""},{"$f":"IF(AND(J26<>\"\",入力シート!I92<>\"\"),VLOOKUP(入力シート!I92,マスタデータ1!$X$28:$AY$41,28,FALSE),\"\")","v":""},{"$f":"IF(AND(J26<>\"\",入力シート!J92<>\"\"),VLOOKUP(入力シート!J92,マスタデータ1!$Z$28:$AY$41,26,FALSE),\"\")","v":""},{"$f":"IF(AND(J26<>\"\",入力シート!L92<>\"\"),入力シート!K92&入力シート!L92,\"\")","v":""},{"$f":"IF(AND(J26<>\"\",入力シート!M92<>\"\"),VLOOKUP(入力シート!M92,マスタデータ1!$AC$28:$AY$41,23,FALSE),\"\")","v":""},{"$f":"IF(AND(J26<>\"\",入力シート!N92<>\"\"),VLOOKUP(入力シート!N92,マスタデータ1!$AD$28:$AY$41,22,FALSE),\"\")","v":""},{"$f":"IF(AND(J26<>\"\",入力シート!O92<>\"\"),VLOOKUP(入力シート!O92,マスタデータ1!$AF$28:$AY$41,20,FALSE),\"\")","v":""},{"$f":"IF(AND(J26<>\"\",入力シート!P92<>\"\"),VLOOKUP(入力シート!P92,マスタデータ1!$AG$28:$AY$41,19,FALSE),\"\")","v":""},{"$f":"IF(AND(J26<>\"\",入力シート!Q92<>\"\"),VLOOKUP(入力シート!Q92,マスタデータ1!$AH$28:$AY$41,18,FALSE),\"\")","v":""},{"$f":"IF(AND(J26<>\"\",入力シート!R92<>\"\"),VLOOKUP(入力シート!R92,マスタデータ1!$AI$28:$AY$41,17,FALSE),\"\")","v":""},{"$f":"IF(AND(J26<>\"\",入力シート!S92<>\"\"),VLOOKUP(入力シート!S92,マスタデータ1!$AJ$28:$AY$41,16,FALSE),\"\")","v":""},{"$f":"IF(AND(J26<>\"\",入力シート!T92<>\"\"),VLOOKUP(入力シート!T92,マスタデータ1!$AL$28:$AY$41,14,FALSE),\"\")","v":""},{"$f":"IF(AND(J26<>\"\",入力シート!U92<>\"\"),VLOOKUP(入力シート!U92,マスタデータ1!$AM$28:$AY$41,13,FALSE),\"\")","v":""},{"$f":"IF(AND(J26<>\"\",入力シート!W92<>\"\"),入力シート!V92&入力シート!W92,\"\")","v":""},{"$f":"IF(AND(J26<>\"\",入力シート!X92<>\"\"),VLOOKUP(入力シート!X92,マスタデータ1!$AP$28:$AY$41,10,FALSE),\"\")","v":""},{"$f":"IF(AND(J26<>\"\",入力シート!Y92<>\"\"),VLOOKUP(入力シート!Y92,マスタデータ1!$AQ$28:$AY$41,9,FALSE),\"\")","v":""},{"$f":"IF(AND(J26<>\"\",入力シート!Z92<>\"\"),VLOOKUP(入力シート!Z92,マスタデータ1!$AR$28:$AY$41,8,FALSE),\"\")","v":""},{"$f":"IF(AND(J26<>\"\",入力シート!AA92<>\"\"),VLOOKUP(入力シート!AA92,マスタデータ1!$AS$28:$AY$41,7,FALSE),\"\")","v":""},{"$f":"IF(AND(J26<>\"\",入力シート!AB92<>\"\"),VLOOKUP(入力シート!AB92,マスタデータ1!$AT$28:$AY$41,6,FALSE),\"\")","v":""},{"$f":"IF(AND(J26<>\"\",入力シート!AC92<>\"\"),VLOOKUP(入力シート!AC92,マスタデータ1!$AU$28:$AY$41,5,FALSE),\"\")","v":""},{"$f":"IF(AND(J26<>\"\",入力シート!AD92<>\"\"),VLOOKUP(入力シート!AD92,マスタデータ1!$AV$28:$AY$41,4,FALSE),\"\")","v":""},{"$f":"IF(AND(J26<>\"\",入力シート!AE92<>\"\"),VLOOKUP(入力シート!AE92,マスタデータ1!$AW$28:$AY$41,3,FALSE),\"\")","v":""},{"$f":"IF(AND(J26<>\"\",入力シート!AF92<>\"\"),VLOOKUP(入力シート!AF92,マスタデータ1!$AX$28:$AY$41,2,FALSE),\"\")","v":""}]
[{"$nulls":9},{"$f":"IF(入力シート!B97<>\"\",入力シート!B97,\"\")","v":""},null,{"$f":"IF(AND(J27<>\"\",入力シート!C97<>\"\"),1,\"\")","v":""},{"$f":"IF(AND(J27<>\"\",入力シート!D97<>\"\"),VLOOKUP(入力シート!D97,マスタデータ1!$S$28:$AY$41,33,FALSE),\"\")","v":""},{"$f":"IF(AND(J27<>\"\",入力シート!E97<>\"\"),VLOOKUP(入力シート!E97,マスタデータ1!$T$28:$AY$41,32,FALSE),\"\")","v":""},{"$f":"IF(AND(J27<>\"\",入力シート!F97<>\"\"),VLOOKUP(入力シート!F97,マスタデータ1!$U$28:$AY$41,31,FALSE),\"\")","v":""},{"$f":"IF(AND(J27<>\"\",入力シート!G97<>\"\"),VLOOKUP(入力シート!G97,マスタデータ1!$V$28:$AY$41,30,FALSE),\"\")","v":""},{"$f":"IF(AND(J27<>\"\",入力シート!H97<>\"\"),VLOOKUP(入力シート!H97,マスタデータ1!$W$28:$AY$41,29,FALSE),\"\")","v":""},{"$f":"IF(AND(J27<>\"\",入力シート!I97<>\"\"),VLOOKUP(入力シート!I97,マスタデータ1!$X$28:$AY$41,28,FALSE),\"\")","v":""},{"$f":"IF(AND(J27<>\"\",入力シート!J97<>\"\"),VLOOKUP(入力シート!J97,マスタデータ1!$Z$28:$AY$41,26,FALSE),\"\")","v":""},{"$f":"IF(AND(J27<>\"\",入力シート!L97<>\"\"),入力シート!K97&入力シート!L97,\"\")","v":""},{"$f":"IF(AND(J27<>\"\",入力シート!M97<>\"\"),VLOOKUP(入力シート!M97,マスタデータ1!$AC$28:$AY$41,23,FALSE),\"\")","v":""},{"$f":"IF(AND(J27<>\"\",入力シート!N97<>\"\"),VLOOKUP(入力シート!N97,マスタデータ1!$AD$28:$AY$41,22,FALSE),\"\")","v":""},{"$f":"IF(AND(J27<>\"\",入力シート!O97<>\"\"),VLOOKUP(入力シート!O97,マスタデータ1!$AF$28:$AY$41,20,FALSE),\"\")","v":""},{"$f":"IF(AND(J27<>\"\",入力シート!P97<>\"\"),VLOOKUP(入力シート!P97,マスタデータ1!$AG$28:$AY$41,19,FALSE),\"\")","v":""},{"$f":"IF(AND(J27<>\"\",入力シート!Q97<>\"\"),VLOOKUP(入力シート!Q97,マスタデータ1!$AH$28:$AY$41,18,FALSE),\"\")","v":""},{"$f":"IF(AND(J27<>\"\",入力シート!R97<>\"\"),VLOOKUP(入力シート!R97,マスタデータ1!$AI$28:$AY$41,17,FALSE),\"\")","v":""},{"$f":"IF(AND(J27<>\"\",入力シート!S97<>\"\"),VLOOKUP(入力シート!S97,マスタデータ1!$AJ$28:$AY$41,16,FALSE),\"\")","v":""},{"$f":"IF(AND(J27<>\"\",入力シート!T97<>\"\"),VLOOKUP(入力シート!T97,マスタデータ1!$AL$28:$AY$41,14,FALSE),\"\")","v":""},{"$f":"IF(AND(J27<>\"\",入力シート!U97<>\"\"),VLOOKUP(入力シート!U97,マスタデータ1!$AM$28:$AY$41,13,FALSE),\"\")","v":""},{"$f":"IF(AND(J27<>\"\",入力シート!W97<>\"\"),入力シート!V97&入力シート!W97,\"\")","v":""},{"$f":"IF(AND(J27<>\"\",入力シート!X97<>\"\"),VLOOKUP(入力シート!X97,マスタデータ1!$AP$28:$AY$41,10,FALSE),\"\")","v":""},{"$f":"IF(AND(J27<>\"\",入力シート!Y97<>\"\"),VLOOKUP(入力シート!Y97,マスタデータ1!$AQ$28:$AY$41,9,FALSE),\"\")","v":""},{"$f":"IF(AND(J27<>\"\",入力シート!Z97<>\"\"),VLOOKUP(入力シート!Z97,マスタデータ1!$AR$28:$AY$41,8,FALSE),\"\")","v":""},{"$f":"IF(AND(J27<>\"\",入力シート!AA97<>\"\"),VLOOKUP(入力シート!AA97,マスタデータ1!$AS$28:$AY$41,7,FALSE),\"\")","v":""},{"$f":"IF(AND(J27<>\"\",入力シート!AB97<>\"\"),VLOOKUP(入力シート!AB97,マスタデータ1!$AT$28:$AY$41,6,FALSE),\"\")","v":""},{"$f":"IF(AND(J27<>\"\",入力シート!AC97<>\"\"),VLOOKUP(入力シート!AC97,マスタデータ1!$AU$28:$AY$41,5,FALSE),\"\")","v":""},{"$f":"IF(AND(J27<>\"\",入力シート!AD97<>\"\"),VLOOKUP(入力シート!AD97,マスタデータ1!$AV$28:$AY$41,4,FALSE),\"\")","v":""},{"$f":"IF(AND(J27<>\"\",入力シート!AE97<>\"\"),VLOOKUP(入力シート!AE97,マスタデータ1!$AW$28:$AY$41,3,FALSE),\"\")","v":""},{"$f":"IF(AND(J27<>\"\",入力シート!AF97<>\"\"),VLOOKUP(入力シート!AF97,マスタデータ1!$AX$28:$AY$41,2,FALSE),\"\")","v":""}]
[{"$nulls":9},{"$f":"IF(入力シート!B102<>\"\",入力シート!B102,\"\")","v":""},null,{"$f":"IF(AND(J28<>\"\",入力シート!C102<>\"\"),1,\"\")","v":""},{"$f":"IF(AND(J28<>\"\",入力シート!D102<>\"\"),VLOOKUP(入力シート!D102,マスタデータ1!$S$28:$AY$41,33,FALSE),\"\")","v":""},{"$f":"IF(AND(J28<>\"\",入力シート!E102<>\"\"),VLOOKUP(入力シート!E102,マスタデータ1!$T$28:$AY$41,32,FALSE),\"\")","v":""},{"$f":"IF(AND(J28<>\"\",入力シート!F102<>\"\"),VLOOKUP(入力シート!F102,マスタデータ1!$U$28:$AY$41,31,FALSE),\"\")","v":""},{"$f":"IF(AND(J28<>\"\",入力シート!G102<>\"\"),VLOOKUP(入力シート!G102,マスタデータ1!$V$28:$AY$41,30,FALSE),\"\")","v":""},{"$f":"IF(AND(J28<>\"\",入力シート!H102<>\"\"),VLOOKUP(入力シート!H102,マスタデータ1!$W$28:$AY$41,29,FALSE),\"\")","v":""},{"$f":"IF(AND(J28<>\"\",入力シート!I102<>\"\"),VLOOKUP(入力シート!I102,マスタデータ1!$X$28:$AY$41,28,FALSE),\"\")","v":""},{"$f":"IF(AND(J28<>\"\",入力シート!J102<>\"\"),VLOOKUP(入力シート!J102,マスタデータ1!$Z$28:$AY$41,26,FALSE),\"\")","v":""},{"$f":"IF(AND(J28<>\"\",入力シート!L102<>\"\"),入力シート!K102&入力シート!L102,\"\")","v":""},{"$f":"IF(AND(J28<>\"\",入力シート!M102<>\"\"),VLOOKUP(入力シート!M102,マスタデータ1!$AC$28:$AY$41,23,FALSE),\"\")","v":""},{"$f":"IF(AND(J28<>\"\",入力シート!N102<>\"\"),VLOOKUP(入力シート!N102,マスタデータ1!$AD$28:$AY$41,22,FALSE),\"\")","v":""},{"$f":"IF(AND(J28<>\"\",入力シート!O102<>\"\"),VLOOKUP(入力シート!O102,マスタデータ1!$AF$28:$AY$41,20,FALSE),\"\")","v":""},{"$f":"IF(AND(J28<>\"\",入力シート!P102<>\"\"),VLOOKUP(入力シート!P102,マスタデータ1!$AG$28:$AY$41,19,FALSE),\"\")","v":""},{"$f":"IF(AND(J28<>\"\",入力シート!Q102<>\"\"),VLOOKUP(入力シート!Q102,マスタデータ1!$AH$28:$AY$41,18,FALSE),\"\")","v":""},{"$f":"IF(AND(J28<>\"\",入力シート!R102<>\"\"),VLOOKUP(入力シート!R102,マスタデータ1!$AI$28:$AY$41,17,FALSE),\"\")","v":""},{"$f":"IF(AND(J28<>\"\",入力シート!S102<>\"\"),VLOOKUP(入力シート!S102,マスタデータ1!$AJ$28:$AY$41,16,FALSE),\"\")","v":""},{"$f":"IF(AND(J28<>\"\",入力シート!T102<>\"\"),VLOOKUP(入力シート!T102,マスタデータ1!$AL$28:$AY$41,14,FALSE),\"\")","v":""},{"$f":"IF(AND(J28<>\"\",入力シート!U102<>\"\"),VLOOKUP(入力シート!U102,マスタデータ1!$AM$28:$AY$41,13,FALSE),\"\")","v":""},{"$f":"IF(AND(J28<>\"\",入力シート!W102<>\"\"),入力シート!V102&入力シート!W102,\"\")","v":""},{"$f":"IF(AND(J28<>\"\",入力シート!X102<>\"\"),VLOOKUP(入力シート!X102,マスタデータ1!$AP$28:$AY$41,10,FALSE),\"\")","v":""},{"$f":"IF(AND(J28<>\"\",入力シート!Y102<>\"\"),VLOOKUP(入力シート!Y102,マスタデータ1!$AQ$28:$AY$41,9,FALSE),\"\")","v":""},{"$f":"IF(AND(J28<>\"\",入力シート!Z102<>\"\"),VLOOKUP(入力シート!Z102,マスタデータ1!$AR$28:$AY$41,8,FALSE),\"\")","v":""},{"$f":"IF(AND(J28<>\"\",入力シート!AA102<>\"\"),VLOOKUP(入力シート!AA102,マスタデータ1!$AS$28:$AY$41,7,FALSE),\"\")","v":""},{"$f":"IF(AND(J28<>\"\",入力シート!AB102<>\"\"),VLOOKUP(入力シート!AB102,マスタデータ1!$AT$28:$AY$41,6,FALSE),\"\")","v":""},{"$f":"IF(AND(J28<>\"\",入力シート!AC102<>\"\"),VLOOKUP(入力シート!AC102,マスタデータ1!$AU$28:$AY$41,5,FALSE),\"\")","v":""},{"$f":"IF(AND(J28<>\"\",入力シート!AD102<>\"\"),VLOOKUP(入力シート!AD102,マスタデータ1!$AV$28:$AY$41,4,FALSE),\"\")","v":""},{"$f":"IF(AND(J28<>\"\",入力シート!AE102<>\"\"),VLOOKUP(入力シート!AE102,マスタデータ1!$AW$28:$AY$41,3,FALSE),\"\")","v":""},{"$f":"IF(AND(J28<>\"\",入力シート!AF102<>\"\"),VLOOKUP(入力シート!AF102,マスタデータ1!$AX$28:$AY$41,2,FALSE),\"\")","v":""}]
[{"$nulls":9},{"$f":"IF(入力シート!B107<>\"\",入力シート!B107,\"\")","v":""},null,{"$f":"IF(AND(J29<>\"\",入力シート!C107<>\"\"),1,\"\")","v":""},{"$f":"IF(AND(J29<>\"\",入力シート!D107<>\"\"),VLOOKUP(入力シート!D107,マスタデータ1!$S$28:$AY$41,33,FALSE),\"\")","v":""},{"$f":"IF(AND(J29<>\"\",入力シート!E107<>\"\"),VLOOKUP(入力シート!E107,マスタデータ1!$T$28:$AY$41,32,FALSE),\"\")","v":""},{"$f":"IF(AND(J29<>\"\",入力シート!F107<>\"\"),VLOOKUP(入力シート!F107,マスタデータ1!$U$28:$AY$41,31,FALSE),\"\")","v":""},{"$f":"IF(AND(J29<>\"\",入力シート!G107<>\"\"),VLOOKUP(入力シート!G107,マスタデータ1!$V$28:$AY$41,30,FALSE),\"\")","v":""},{"$f":"IF(AND(J29<>\"\",入力シート!H107<>\"\"),VLOOKUP(入力シート!H107,マスタデータ1!$W$28:$AY$41,29,FALSE),\"\")","v":""},{"$f":"IF(AND(J29<>\"\",入力シート!I107<>\"\"),VLOOKUP(入力シート!I107,マスタデータ1!$X$28:$AY$41,28,FALSE),\"\")","v":""},{"$f":"IF(AND(J29<>\"\",入力シート!J107<>\"\"),VLOOKUP(入力シート!J107,マスタデータ1!$Z$28:$AY$41,26,FALSE),\"\")","v":""},{"$f":"IF(AND(J29<>\"\",入力シート!L107<>\"\"),入力シート!K107&入力シート!L107,\"\")","v":""},{"$f":"IF(AND(J29<>\"\",入力シート!M107<>\"\"),VLOOKUP(入力シート!M107,マスタデータ1!$AC$28:$AY$41,23,FALSE),\"\")","v":""},{"$f":"IF(AND(J29<>\"\",入力シート!N107<>\"\"),VLOOKUP(入力シート!N107,マスタデータ1!$AD$28:$AY$41,22,FALSE),\"\")","v":""},{"$f":"IF(AND(J29<>\"\",入力シート!O107<>\"\"),VLOOKUP(入力シート!O107,マスタデータ1!$AF$28:$AY$41,20,FALSE),\"\")","v":""},{"$f":"IF(AND(J29<>\"\",入力シート!P107<>\"\"),VLOOKUP(入力シート!P107,マスタデータ1!$AG$28:$AY$41,19,FALSE),\"\")","v":""},{"$f":"IF(AND(J29<>\"\",入力シート!Q107<>\"\"),VLOOKUP(入力シート!Q107,マスタデータ1!$AH$28:$AY$41,18,FALSE),\"\")","v":""},{"$f":"IF(AND(J29<>\"\",入力シート!R107<>\"\"),VLOOKUP(入力シート!R107,マスタデータ1!$AI$28:$AY$41,17,FALSE),\"\")","v":""},{"$f":"IF(AND(J29<>\"\",入力シート!S107<>\"\"),VLOOKUP(入力シート!S107,マスタデータ1!$AJ$28:$AY$41,16,FALSE),\"\")","v":""},{"$f":"IF(AND(J29<>\"\",入力シート!T107<>\"\"),VLOOKUP(入力シート!T107,マスタデータ1!$AL$28:$AY$41,14,FALSE),\"\")","v":""},{"$f":"IF(AND(J29<>\"\",入力シート!U107<>\"\"),VLOOKUP(入力シート!U107,マスタデータ1!$AM$28:$AY$41,13,FALSE),\"\")","v":""},{"$f":"IF(AND(J29<>\"\",入力シート!W107<>\"\"),入力シート!V107&入力シート!W107,\"\")","v":""},{"$f":"IF(AND(J29<>\"\",入力シート!X107<>\"\"),VLOOKUP(入力シート!X107,マスタデータ1!$AP$28:$AY$41,10,FALSE),\"\")","v":""},{"$f":"IF(AND(J29<>\"\",入力シート!Y107<>\"\"),VLOOKUP(入力シート!Y107,マスタデータ1!$AQ$28:$AY$41,9,FALSE),\"\")","v":""},{"$f":"IF(AND(J29<>\"\",入力シート!Z107<>\"\"),VLOOKUP(入力シート!Z107,マスタデータ1!$AR$28:$AY$41,8,FALSE),\"\")","v":""},{"$f":"IF(AND(J29<>\"\",入力シート!AA107<>\"\"),VLOOKUP(入力シート!AA107,マスタデータ1!$AS$28:$AY$41,7,FALSE),\"\")","v":""},{"$f":"IF(AND(J29<>\"\",入力シート!AB107<>\"\"),VLOOKUP(入力シート!AB107,マスタデータ1!$AT$28:$AY$41,6,FALSE),\"\")","v":""},{"$f":"IF(AND(J29<>\"\",入力シート!AC107<>\"\"),VLOOKUP(入力シート!AC107,マスタデータ1!$AU$28:$AY$41,5,FALSE),\"\")","v":""},{"$f":"IF(AND(J29<>\"\",入力シート!AD107<>\"\"),VLOOKUP(入力シート!AD107,マスタデータ1!$AV$28:$AY$41,4,FALSE),\"\")","v":""},{"$f":"IF(AND(J29<>\"\",入力シート!AE107<>\"\"),VLOOKUP(入力シート!AE107,マスタデータ1!$AW$28:$AY$41,3,FALSE),\"\")","v":""},{"$f":"IF(AND(J29<>\"\",入力シート!AF107<>\"\"),VLOOKUP(入力シート!AF107,マスタデータ1!$AX$28:$AY$41,2,FALSE),\"\")","v":""}]

{"sheet":"単項目チェック一覧","index":7,"n_rows":107,"n_cols":21,"rows_kept":107,"hidden":true,"merged":[[3,0,3,5],[3,6,3,11],[3,13,3,15],[3,16,3,17]]}
[]
["単項目チェック一覧"]
[]
["単項目チェック詳細",{"$nulls":5},"入力許可",{"$nulls":5},"出力メッセージ","RPA変換シート",null,null,"入力シート"]
["項目\n種別","原票区分","チェック種別","項目\n分類","チェック項目","表示メッセージ","必須","英字","数字(離散値)","数字(連続値)","スペース","全て","メッセージ（※未使用項目）","対応行","対応列","対応\n桁位置","対応行","対応列"]
["01","0","単体チェック","01","・需要場所住所",null,"○",{"$nulls":4},"○","申込者情報エラー","-","-","-","5","2"]
["01","0","単体チェック","01","・目標",{"$nulls":6},"○","申込者情報エラー","-","-","-","6","2"]
["01","0","単体チェック","01","・契約者名",null,"○",{"$nulls":4},"○","申込者情報エラー","-","-","-","7","2"]
["01","0","単体チェック","01","・工事会社名",null,"○",{"$nulls":4},"○","申込者情報エラー","-","-","-","14","2"]
["01","0","単体チェック","01","・工事設計者",null,"○",{"$nulls":4},"○","申込者情報エラー","-","-","-","16","2"]
["01","0","単体チェック","01","・支店","２～６以外","○",null,null,"2-6",null,null,"事業所エラー","2","14","1","10","2"]
["01","0","単体チェック","02","・営業支店","１，３，５以外","○",null,"1,3,5",{"$nulls":3},"事業所エラー","2","14","2","10","4"]
["01","0","単体チェック","03","・営業所","０～９以外","○",null,null,"0-9",null,null,"事業所エラー","2","14","3","10","5"]
["01","0","単体チェック","04","・グループ","０～４以外","○",null,null,"0-4",null,null,"事業所エラー","2","14","4","10","6"]
["01","0","単体チェック","05","・内線工事会社1桁目","B,C,D,E,F以外","○","B,C,D,E,F",{"$nulls":4},"工事会社コードエラー","2","22","1","12","2"]
["01","0","単体チェック","05","・内線工事会社2桁目","１～４以外","○",null,null,"1-4",null,null,"工事会社コードエラー","2","22","2","12","3"]
["01","0","単体チェック","05","・内線工事会社4桁目","０～９以外","○",null,null,"0-9",null,null,"工事会社コードエラー","2","22","3","12","5"]
["01","0","単体チェック","05","・内線工事会社5桁目","０～９以外","○",null,null,"0-9",null,null,"工事会社コードエラー","2","22","4","12","6"]
["01","0","単体チェック","05","・内線工事会社6桁目","０～９以外","○",null,null,"0-9",null,null,"工事会社コードエラー","2","22","5","12","7"]
["01","0","単体チェック","06","・設計書№1桁目","０～９以外","○",null,null,"0-9",null,null,"設計書№エラー","2","29","1","18","2"]
["01","0","単体チェック","06","・設計書№2桁目","０～９以外","○",null,null,"0-9",null,null,"設計書№エラー","2","29","2","18","3"]
["01","0","単体チェック","06","・設計書№3桁目","０～９以外","○",null,null,"0-9",null,null,"設計書№エラー","2","29","3","18","4"]
["01","0","単体チェック","07","・カード№","１～９以外","○",null,null,"1-9",null,null,"カード№エラー","-","-","-","40","2"]
["01","0","単体チェック","08","・電灯申込（定額）","数値またはスペース以外",{"$nulls":3},"*","○",null,"申込情報エラー","-","-","-","26","4"]
["01","0","単体チェック","08","・電灯申込（標準）","数値またはスペース以外",{"$nulls":3},"*","○",null,"申込情報エラー","-","-","-","27","4"]
["01","0","単体チェック","08","・電灯申込（時間帯別）","数値またはスペース以外",{"$nulls":3},"*","○",null,"申込情報エラー","-","-","-","28","4"]
["01","0","単体チェック","08","・電灯申込（従量）","数値またはスペース以外",{"$nulls":3},"*","○",null,"申込情報エラー","-","-","-","29","4"]
["01","0","単体チェック","08","・電力申込（標準）","数値またはスペース以外",{"$nulls":3},"*","○",null,"申込情報エラー","-","-","-","26","10"]
["01","0","単体チェック","08","・電力申込（時間帯別）","数値またはスペース以外",{"$nulls":3},"*","○",null,"申込情報エラー","-","-","-","27","10"]
["01","0","単体チェック","08","・電力申込（従量）","数値またはスペース以外",{"$nulls":3},"*","○",null,"申込情報エラー","-","-","-","28","10"]
["01","0","単体チェック","09","・カード枚数（原票区分1）","１～９以外","○",null,null,"1-9",null,null,"カード枚数エラー","-","-","-","33","2"]
["01","0","単体チェック","09","・カード枚数（原票区分2）","０～８以外","○",null,null,"0-8",null,null,"カード枚数エラー","-","-","-","33","6"]
["11","1","単体チェック","01","・営業所1桁目","０～２、またはスペース以外","○",null,null,"0-2","○",null,"工事場所(営業所エラー）","10","12","1","10","7"]
["11","1","単体チェック","01","・営業所2桁目","０，１，３，５，７，９またはスペース以外","○",null,"0,1,3,5,7,9",null,"○",null,"工事場所(営業所エラー）","10","12","2","10","8"]
["11","1","単体チェック","01","・営業所3桁目","０またはスペース以外","○",null,"0",null,"○",null,"工事場所(営業所エラー）","10","12","3","10","9"]
["11","1","単体チェック","02","・引込柱（画）1桁目","２～８、またはスペース以外","○",null,null,"2-8","○",null,"工事場所（メッシュ№エラー）","10","13","1","21","10"]
["11","1","単体チェック","02","・引込柱（画）2桁目","０～５、９またはスペース以外","○",null,"9","0-5","○",null,"工事場所（メッシュ№エラー）","10","13","2","21","11","^([0-5]|[9]|[ ])$"]
["11","1","単体チェック","02","・引込柱（区）1桁目","０～７、またはスペース以外","○",null,null,"0-7","○",null,"工事場所（メッシュ№エラー）","10","14","1","21","12"]
["11","1","単体チェック","02","・引込柱（区）2桁目","０～７、またはスペース以外","○",null,null,"0-7","○",null,"工事場所（メッシュ№エラー）","10","14","2","21","13"]
["11","1","単体チェック","02","・引込柱（図）1桁目","０～９、またはスペース以外","○",null,null,"0-9","○",null,"工事場所（メッシュ№エラー）","10","15","1","21","14"]
["11","1","単体チェック","02","・引込柱（図）2桁目","０～９、またはスペース以外","○",null,null,"0-9","○",null,"工事場所（メッシュ№エラー）","10","15","2","21","15"]
["11","0","単体チェック","02","・引込柱（番）1桁目","０～９以外","○",null,null,"0-9",null,null,"工事場所（メッシュ№エラー）","-","-","-","21","16"]
["11","0","単体チェック","02","・引込柱（番）2桁目","０～９以外","○",null,null,"0-9",null,null,"工事場所（メッシュ№エラー）","-","-","-","21","17"]
["11","0","単体チェック","02","・引込柱（の）1桁目","０～９以外","○",null,null,"0-9",null,null,"工事場所（メッシュ№エラー）","-","-","-","21","18"]
["11","0","単体チェック","02","・引込柱（の）2桁目","０～９以外","○",null,null,"0-9",null,null,"工事場所（メッシュ№エラー）","-","-","-","21","19"]
["11","0","単体チェック","02","・引込柱（号）1桁目","０～９以外","○",null,null,"0-9",null,null,"工事場所（メッシュ№エラー）","-","-","-","21","20"]
["11","0","単体チェック","02","・引込柱（号）2桁目","０～９以外","○",null,null,"0-9",null,null,"工事場所（メッシュ№エラー）","-","-","-","21","21"]
["11","1","単体チェック","02","・変圧器柱（画）1桁目","２～８、またはスペース以外",{"$nulls":3},"2-8","○",null,"工事場所（メッシュ№エラー）","-","-","-","23","2"]
["11","1","単体チェック","02","・変圧器柱（画）2桁目","０～５、９またはスペース以外",null,null,"9","0-5","○",null,"工事場所（メッシュ№エラー）","-","-","-","23","3","^([0-5]|[9]|[ ])$"]
["11","1","単体チェック","02","・変圧器柱（区）1桁目","０～７、またはスペース以外",{"$nulls":3},"0-7","○",null,"工事場所（メッシュ№エラー）","-","-","-","23","4"]
["11","1","単体チェック","02","・変圧器柱（区）2桁目","０～７、またはスペース以外",{"$nulls":3},"0-7","○",null,"工事場所（メッシュ№エラー）","-","-","-","23","5"]
["11","1","単体チェック","02","・変圧器柱（図）1桁目","０～９、またはスペース以外",{"$nulls":3},"0-9","○",null,"工事場所（メッシュ№エラー）","-","-","-","23","6"]
["11","1","単体チェック","02","・変圧器柱（図）2桁目","０～９、またはスペース以外",{"$nulls":3},"0-9","○",null,"工事場所（メッシュ№エラー）","-","-","-","23","7"]
["11","0","単体チェック","02","・変圧器柱（番）1桁目","０～９以外",{"$nulls":3},"0-9",null,"○","工事場所（メッシュ№エラー）","-","-","-","23","8"]
["11","0","単体チェック","02","・変圧器柱（番）2桁目","０～９以外",{"$nulls":3},"0-9",null,"○","工事場所（メッシュ№エラー）","-","-","-","23","9"]
["11","0","単体チェック","02","・変圧器柱（の）1桁目","０～９以外",{"$nulls":3},"0-9",null,"○","工事場所（メッシュ№エラー）","-","-","-","23","10"]
["11","0","単体チェック","02","・変圧器柱（の）2桁目","０～９以外",{"$nulls":3},"0-9",null,"○","工事場所（メッシュ№エラー）","-","-","-","23","11"]
["11","0","単体チェック","02","・変圧器柱（号）1桁目","０～９以外",{"$nulls":3},"0-9",null,"○","工事場所（メッシュ№エラー）","-","-","-","23","12"]
["11","0","単体チェック","02","・変圧器柱（号）2桁目","０～９以外",{"$nulls":3},"0-9",null,"○","工事場所（メッシュ№エラー）","-","-","-","23","13"]
["11","1","単体チェック","03","・訂正区分","１～４、またはスペース以外",{"$nulls":3},"1-4","○",null,"訂正区分エラー","10","17","-","40","3"]
["11","1","単体チェック","04","・付外区分","１～４、９以外",null,null,"9","1-4",null,null,"付外区分エラー","10","18","-","40","4"]
["11","1","単体チェック","05","・引込線灯力区分","１～２、またはスペース以外",{"$nulls":3},"1-2","○",null,"灯力区分エラー","10","19","-","40","5"]
["11","1","単体チェック","06","・パターン・方式１","１～９、またはスペース以外",{"$nulls":3},"1-9","○",null,"パターンエラー","10","20","-","40","6"]
["11","1","単体チェック","07","・パターン・方式２","１～４、６、７またはスペース以外",null,null,"6,7","1-4","○",null,"パターンエラー","10","21","-","40","7"]
["11","1","単体チェック","08","・パターン・線種","１～５、またはスペース以外",{"$nulls":3},"1-5","○",null,"パターンエラー","10","22","-","40","8"]
["11","1","単体チェック","09","・条数","１～３、またはスペース以外",{"$nulls":3},"1-3","○",null,"条数エラー","10","23","-","40","9"]
["11","1","単体チェック","10","・太さ","Ａ、Ｂ、０～９またはスペース以外",null,"A,B",null,"0-9","○",null,"引込線・太さエラー","10","25","-","40","11","^([AB]|[0-9])$",null,"列跨ぎは|で繋ぐ"]
["11","1","単体チェック","11","・口数","１～９、またはスペース以外",{"$nulls":3},"1-9","○",null,"引込線・口数エラー","10","26","-","40","12"]
["11","1","単体チェック","12","・総亘長","００～９９、またはスペース以外",{"$nulls":3},"00-99","○",null,"引込線・総亘長エラー","10","27","-","40","13,14","^([0-9][0-9])$",null,"2桁以上はデフォルト外"]
["11","1","単体チェック","13","・設計工量","1～４、またはスペース以外",{"$nulls":3},"1-4","○",null,"設計工量エラー","10","28","-","40","15"]
["11","1","単体チェック","14","・供給ＫＷ","０００～９９９、またはスペース以外",{"$nulls":3},"000-999","○",null,"供給ＫＷエラー","10","29","-","40","16,17,18"]
["11","1","単体チェック","15","・自動点滅器種別","A、B、０～９、またはスペース以外",null,"A,B",null,"0-9","○",null,"自動点滅器エラー","10","30","-","40","19"]
["11","1","単体チェック","16","・個数","１～９、またはスペース以外",{"$nulls":3},"1-9","○",null,"自動点滅器エラー","10","31","-","40","20"]
["11","1","単体チェック","17","・補助支持物数","１～９、またはスペース以外",{"$nulls":3},"1-9","○",null,"補助支持物エラー","10","32","-","40","21"]
["11","1","単体チェック","18","・引込アーム本柱材質","１～３、またはスペース以外",{"$nulls":3},"1-3","○",null,"引込アームエラー","10","33","-","40","22"]
["11","1","単体チェック","19","・種別","１～４、またはスペース以外",{"$nulls":3},"1-4","○",null,"引込アームエラー","10","34","-","40","23"]
["11","1","単体チェック","20","・長さ","１～４、またはスペース以外",{"$nulls":3},"1-4","○",null,"引込アームエラー","10","35","-","40","24"]
["11","1","単体チェック","21","・アームタイ","１、２またはスペース以外",null,null,"1,2",null,"○",null,"引込アームエラー","10","36","-","40","25"]
["21","2","単体チェック","0１","・カードNo.","２～８またはスペース以外",{"$nulls":3},"2-8","○",null,"カードNo.エラー","26","10","-","92","2"]
["21","2","単体チェック","02","・訂正区分","１、４またはスペース以外",null,null,"1,4",null,"○",null,"訂正区分エラー","26","12","-","92","3"]
["21","2","単体チェック","03","・付外区分","１、２以外",null,null,"1,2",{"$nulls":3},"付外区分エラー","26","13","-","92","4"]
["21","2","単体チェック","04","・引込導線種別","１～４またはスペース以外",{"$nulls":3},"1-4","○",null,"引込導線エラー","26","14","-","92","5"]
["21","2","単体チェック","05","・太さ","１～３またはスペース以外",{"$nulls":3},"1-3","○",null,"引込導線エラー","26","15","-","92","6"]
["21","2","単体チェック","06","・箇所","１～９またはスペース以外",{"$nulls":3},"1-9","○",null,"引込導線エラー","26","16","-","92","7"]
["21","2","単体チェック","07","・足し線線種","１～４またはスペース以外",{"$nulls":3},"1-4","○",null,"足し（外し）線エラー","26","17","-","92","8"]
["21","2","単体チェック","08","・条数","１～３またはスペース以外",{"$nulls":3},"1-3","○",null,"足し（外し）線エラー","26","18","-","92","9"]
["21","2","単体チェック","09","・太さ","Ａ、Ｂ、０～９またはスペース以外",null,"A,B",null,"0-9","○",null,"足し（外し）線エラー","26","19","-","92","10"]
["21","2","単体チェック","10","・総亘長","００～９９またはスペース以外",{"$nulls":3},"00-99","○",null,"足し（外し）線エラー","26","20","-","92","11,12"]
["21","2","単体チェック","11","・接続替種別","１～４またはスペース以外",{"$nulls":3},"1-4","○",null,"接続替エラー","26","21","-","92","13"]
["21","2","単体チェック","12","・条数","１～３またはスペース以外",{"$nulls":3},"1-3","○",null,"接続替エラー","26","22","-","92","14"]
["21","2","単体チェック","13","・太さ","Ａ，Ｂ、０～９またはスペース以外",null,"A,B",null,"0-9","○",null,"接続替エラー","26","23","-","92","15"]
["21","2","単体チェック","14","・口数","１～９またはスペース以外",{"$nulls":3},"1-9","○",null,"接続替エラー","26","24","-","92","16"]
["21","2","単体チェック","15","・部分修繕種別","１～３またはスペース以外",{"$nulls":3},"1-3","○",null,"部分修繕エラー","26","25","-","92","17"]
["21","2","単体チェック","16","・線種","１～４またはスペース以外",{"$nulls":3},"1-4","○",null,"部分修繕エラー","26","26","-","92","18"]
["21","2","単体チェック","17","・条数","１～３またはスペース以外",{"$nulls":3},"1-3","○",null,"部分修繕エラー","26","27","-","92","19"]
["21","2","単体チェック","18","・太さ","Ａ、Ｂ、０～９またはスペース以外",null,"A,B",null,"0-9","○",null,"部分修繕エラー","26","28","-","92","20"]
["21","2","単体チェック","19","・口数","１～９またはスペース以外",{"$nulls":3},"1-9","○",null,"部分修繕エラー","26","29","-","92","21"]
["21","2","単体チェック","20","・総亘長","００～９９またはスペース以外",{"$nulls":3},"00-99","○",null,"部分修繕エラー","26","30","-","92","22,23"]
["21","2","単体チェック","21","・小修繕取替種別","１～３またはスペース以外",{"$nulls":3},"1-3","○",null,"小修繕エラー","26","31","-","92","24"]
["21","2","単体チェック","22","・口数","０～９またはスペース以外",{"$nulls":3},"0-9","○",null,"小修繕エラー","26","32","-","92","25"]
["21","2","単体チェック","23","・ケッチ・がいし（種別）","０～９またはスペース以外",{"$nulls":3},"0-9","○",null,"小修繕エラー","26","33","-","92","26"]
["21","2","単体チェック","24","・ケッチ・がいし（個数）","１～９またはスペース以外",{"$nulls":3},"1-9","○",null,"小修繕エラー","26","34","-","92","27"]
["21","2","単体チェック","25","・活線雑作業","１～９またはスペース以外",{"$nulls":3},"1-9","○",null,"活線雑作業エラー","26","35","-","92","28"]
["21","2","単体チェック","26","・ＨＳ防護","０～９またはスペース以外",{"$nulls":3},"0-9","○",null,"ＨＳ防護エラー","26","36","-","92","29"]
["21","2","単体チェック","27","・承諾書取得","１～９またはスペース以外",{"$nulls":3},"1-9","○",null,"承諾書取得エラー","26","37","-","92","30"]
["21","2","単体チェック","28","・その他割増","１～５またはスペース以外",{"$nulls":3},"1-5","○",null,"その他割増エラー","26","38","-","92","31"]
["21","2","単体チェック","29","・違反件数","１～９またはスペース以外",{"$nulls":3},"1-9","○",null,"違反件数エラー","26","39","-","92","32"]

{"sheet":"関連項目チェック一覧","index":8,"n_rows":37,"n_cols":18,"rows_kept":37,"hidden":true,"merged":[[3,0,3,5],[3,6,3,11],[3,13,3,15],[3,16,3,17],[5,5,11,5],[13,5,14,5],[13,12,14,12],[16,5,17,5],[16,12,17,12],[19,5,20,5],[19,12,20,12],[22,5,23,5],[22,12,23,12],[25,5,28,5],[25,12,28,12],[30,5,33,5],[30,12,33,12],[35,5,36,5],[35,12,36,12]]}
[]
["組合せチェック一覧"]
[]
["関連チェック詳細",{"$nulls":5},"入力許可",{"$nulls":5},"出力メッセージ","RPA変換シート",null,null,"入力シート"]
["項目\n種別","原票区分","チェック種別","項目\n分類","チェック項目","表示メッセージ","前提条件","英字","数字(離散値)","数字(連続値)","スペース","全て","メッセージ（※未使用項目）","対応行","対応列","対応\n桁位置","対応行","対応列"]
["01","0","必須関連チェック","01","電灯申込（定額）","・申込情報の電灯、動力は合計0以上の数値を入力してください。",{"$nulls":3},"*",null,null,"申込情報エラー","-","-","-","26","4"]
["01","0","必須関連チェック","01","電灯申込（標準）",{"$nulls":4},"*",null,null,"申込情報エラー","-","-","-","27","4"]
["01","0","必須関連チェック","01","電灯申込（時間帯別）",{"$nulls":4},"*",null,null,"申込情報エラー","-","-","-","28","4"]
["01","0","必須関連チェック","01","電灯申込（従量）",{"$nulls":4},"*",null,null,"申込情報エラー","-","-","-","29","4"]
["01","0","必須関連チェック","01","電力申込（標準）",{"$nulls":4},"*",null,null,"申込情報エラー","-","-","-","26","10"]
["01","0","必須関連チェック","01","電力申込（時間帯別）",{"$nulls":4},"*",null,null,"申込情報エラー","-","-","-","27","10"]
["01","0","必須関連チェック","01","電力申込（従量）",{"$nulls":4},"*",null,null,"申込情報エラー","-","-","-","28","10"]
[]
["01","1","関連チェック","01","カードNo.","・カードNo.1の供給KWは必須入力です。","○",null,"1",{"$nulls":3},"供給ＫＷ記入エラー","10","10","-","40","2"]
["01","1","関連チェック","01","供給KW",{"$nulls":4},"000-999",{"$nulls":3},"10","29","-","40","16,17,18"]
[]
["12","1","関連チェック","01","付外区分","・付外区分が“移線”で設計工量が“のみ”以外が入力されています。","○",null,"3",{"$nulls":3},"付外区分・設計工量組み合わせエラー","10","18","-","40","4"]
["12","1","関連チェック","01","設計工量",{"$nulls":3},"3",{"$nulls":4},"10","28","-","40","15"]
[]
["12","1","関連チェック","01","付外区分","・付外区分が“取替”で設計工量が“不要”以外が入力されています。","○",null,"4",{"$nulls":3},"付外区分・設計工量組み合わせエラー","10","18","-","40","4"]
["12","1","関連チェック","01","設計工量",{"$nulls":3},"2",{"$nulls":4},"10","28","-","40","15"]
[]
["12","1","関連チェック","01","付外区分","・付外区分が“KWのみ”で設計工量が“不要”以外が入力されています。","○",null,"9",{"$nulls":3},"付外区分・設計工量組み合わせエラー","10","18","-","40","4"]
["12","1","関連チェック","01","設計工量",{"$nulls":3},"2",{"$nulls":4},"10","28","-","40","15"]
[]
["21","2","関連チェック","01","取替種別","・取替種別が“ケッチ”の場合、口数、ケッチ、がいし（種別・個数）は必須入力です。","○",null,"1",{"$nulls":3},"組み合わせエラー","26","31","-","92","5"]
["21","2","関連チェック","01","口数",{"$nulls":4},"0-9",{"$nulls":3},"26","32","-","92","25"]
["21","2","関連チェック","01","ケッチ",{"$nulls":4},"0-9",{"$nulls":3},"26","33","-","92","26"]
["21","2","関連チェック","01","がいし",{"$nulls":4},"0-9",{"$nulls":3},"26","34","-","92","27"]
[]
["21","2","関連チェック","01","取替種別","・取替種別が“がいし”の場合、口数、ケッチ、がいし（種別・個数）は必須入力です。","○",null,"2",{"$nulls":3},"組み合わせエラー","26","31","-","92","5"]
["21","2","関連チェック","01","口数",{"$nulls":4},"0-9",{"$nulls":3},"26","32","-","92","25"]
["21","2","関連チェック","01","ケッチ",{"$nulls":4},"0-9",{"$nulls":3},"26","33","-","92","26"]
["21","2","関連チェック","01","がいし",{"$nulls":4},"0-9",{"$nulls":3},"26","34","-","92","27"]
[]
["21","2","関連チェック","01","取替種別","・取替種別が“たるみ”の場合、口数は必須入力です。","○",null,"3",{"$nulls":3},"組み合わせエラー","26","31","-","92","5"]
["21","2","関連チェック","01","口数",{"$nulls":4},"0-9",{"$nulls":3},"26","32","-","92","25"]

{"sheet":"平面図","index":9,"n_rows":0,"n_cols":0,"rows_kept":0,"hidden":true}

{"sheet":"引込線立面図","index":10,"n_rows":0,"n_cols":0,"rows_kept":0,"hidden":true}

{"sheet":"マスタデータ1","index":11,"n_rows":39,"n_cols":51,"rows_kept":39,"hidden":true,"merged":[[2,1,6,1],[2,2,2,5],[2,6,5,11],[2,12,5,14],[2,15,5,15],[2,16,5,16],[2,17,2,25],[2,26,5,26],[2,27,5,27],[2,28,5,28],[2,29,2,38],[2,39,5,39],[2,40,5,42],[2,43,2,44],[2,45,5,45],[2,46,2,49],[2,50,6,50],[3,2,5,2],[3,3,5,3],[3,4,5,4],[3,5,5,5],[3,17,5,19],[3,20,3,25],[3,29,5,29],[3,30,3,32],[3,33,5,33],[3,34,5,34],[3,35,5,35],[3,36,5,36],[3,37,5,38],[3,43,5,43],[3,44,5,44],[3,46,5,46],[3,47,5,47],[3,48,5,48],[3,49,5,49],[4,20,5,21],[4,22,5,23],[4,24,5,25],[4,30,4,31],[4,32,5,32],[22,1,26,1],[22,2,22,5],[22,6,25,11],[22,12,25,14],[22,15,25,15],[22,16,25,16],[22,17,25,17],[22,18,25,18],[22,19,22,21],[22,22,22,27],[22,28,22,32],[22,33,22,40],[22,41,22,44],[22,45,25,45],[22,46,25,46],[22,47,25,47],[22,48,25,48],[22,49,25,49],[22,50,26,50],[23,2,25,2],[23,3,25,3],[23,4,25,4],[23,5,25,5],[23,19,25,19],[23,20,25,20],[23,21,25,21],[23,22,25,22],[23,23,25,23],[23,24,25,25],[23,26,25,27],[23,28,25,28],[23,29,25,29],[23,30,25,31],[23,32,25,32],[23,33,25,33],[23,34,25,34],[23,35,25,35],[23,36,25,37],[23,38,25,38],[23,39,25,40],[23,41,25,41],[23,42,25,42],[23,43,23,44],[24,43,25,43],[24,44,25,44]]}
[]
[null,"常時引込カード1（原票区分1）"]
[null,"RPA\nCD","事業所",{"$nulls":3},"工事会社",{"$nulls":5},"設計書No",null,null,"カード№","原票区分",{"$nulls":9},"工事区分","訂　正","付　外","引　込　線",{"$nulls":9},"設計工量","供給\nKW\n（100W）",null,null,"自動点滅器",null,"補助支持物数","引込アーム",{"$nulls":3},"RPA\nCD"]
[null,null,"支店","営業支店","営業所","グループ",{"$nulls":11},"営業所",null,null,"メッシュNo",{"$nulls":8},"灯　力","パターン",null,null,"条　数","電話防護","太　さ","口　数","総亘長",{"$nulls":5},"種別","個数",null,"木柱材質","種別","長さ","ｱｰﾑﾀｲ"]
[{"$nulls":30},"方式",null,"線種"]
[{"$nulls":30},1,2]
[null,null,1,2,3,4,5,6,7,8,9,10,11,12,13,14,15,16,17,18,19,20,21,22,23,24,25,26,27,28,29,30,31,32,33,34,35,36,37,38,39,40,41,42,43,44,45,46,47,48]
[null,"A",{"$nulls":33},2,{"$nulls":14},"A"]
[null,"B",{"$nulls":33},2.6,{"$nulls":7},"2線1A",{"$nulls":6},"B"]
[null,0,null,null,0,0,{"$nulls":3},0,0,0,0,0,0,null,null,0,0,0,null,0,0,0,0,0,{"$nulls":9},3.2,null,0,0,null,0,0,0,"2線3A",{"$nulls":6},0]
[null,1,null,1,1,1,null,1,null,1,1,1,1,1,1,1,1,1,1,null,null,1,1,1,1,1,"供給","追加","取付","電灯","単直","単直","DV",1,1,4,1,1,1,"要",1,1,1,null,1,1,"W","引込腕木",0.9,"有",1]
[null,2,"旭川",null,2,2,"B",2,null,2,2,2,2,2,2,2,null,2,null,null,2,2,2,2,2,2,null,"置換","取外","電力","共小","共小","IV",2,2,5,2,2,2,"不要",2,2,2,null,2,2,"O","引込軽アーム",1.2,"無",2]
[null,3,"札幌",3,3,3,"C",3,null,3,3,3,3,3,3,3,null,null,3,null,3,3,3,3,3,3,null,"削除","移線",null,"共大","共大","OW",3,3,8,3,3,3,"のみ",3,3,3,"3線100V10A",3,3,"その他","導線腕木",1.5,null,3]
[null,4,"釧路",null,4,4,"D",4,null,4,4,4,4,4,4,4,{"$nulls":4},4,4,4,4,4,4,null,"取消","取替",null,"連接","連接","VV",null,4,14,4,4,4,"メッセ要",4,4,4,"3線200V3A",4,4,null,"導線軽アーム",1.8,null,4]
[null,5,"室蘭",5,5,null,"E",null,null,5,5,5,5,5,5,5,null,null,5,null,5,5,5,5,5,5,{"$nulls":4},"屋側",null,"ST",null,5,22,5,5,5,null,5,5,5,"3線200V6A",5,5,{"$nulls":4},5]
[null,6,"函館",null,6,null,"F",null,null,6,6,6,6,6,6,6,{"$nulls":4},"6",null,6,6,6,6,{"$nulls":4},"外灯","外灯",null,null,6,38,6,6,6,null,6,6,6,"3線200V10A",6,6,{"$nulls":4},6]
[null,7,null,null,7,{"$nulls":4},7,7,7,7,7,7,7,null,null,7,null,7,null,7,7,7,7,{"$nulls":4},"補フ","補フ",null,null,7,60,7,7,7,null,7,7,7,"3線共用3A",7,7,{"$nulls":4},7]
[null,8,null,null,8,{"$nulls":4},8,8,8,8,8,8,8,{"$nulls":4},8,{"$nulls":3},8,8,{"$nulls":4},"メッセケーブル",{"$nulls":3},8,80,8,8,8,null,8,8,8,"3線共用6A",8,8,{"$nulls":4},8]
[null,9,null,null,9,{"$nulls":4},9,9,9,9,9,9,"9",null,null,9,null,null,9,null,null,9,9,null,null,"KWのみ",null,"メッセワイヤ",{"$nulls":3},9,100,9,9,9,null,9,9,9,"3線共用10A",9,9,{"$nulls":4},9]
[]
[]
[null,"常時引込カード2（原票区分2）"]
[null,"RPA\nCD","事業所",{"$nulls":3},"工事会社",{"$nulls":5},"設計書No",null,null,"カード№","原票区分","訂　正","付　外","引込導線",null,null,"足し（外し）線",{"$nulls":5},"接　続　替",{"$nulls":4},"部　分　修　繕",{"$nulls":7},"小　修　繕",{"$nulls":3},"活線雑作業","HS防護","承諾書取得","その他割増","違反件数","RPA\nCD"]
[null,null,"支店","営業支店","営業所","グループ",{"$nulls":13},"種別","太さ","箇所数","線　種","条　数","太さ",null,"総亘長",null,"種　別","条　数","太さ",null,"口　数","種　別","線　種","条　数","太さ",null,"口　数","総亘長",null,"取替種別","口　数","ケッチ､がいし"]
[{"$nulls":43},"種別","個数"]
[]
[null,null,1,2,3,4,5,6,7,8,9,10,11,12,13,14,15,16,17,18,19,20,21,22,23,24,25,26,27,28,29,30,31,32,33,34,35,36,37,38,39,40,41,42,43,44,45,46,47,48]
[null,"A",{"$nulls":23},2,{"$nulls":5},2,{"$nulls":5},2,{"$nulls":12},"A"]
[null,"B",{"$nulls":23},2.6,{"$nulls":5},2.6,{"$nulls":5},2.6,{"$nulls":12},"B"]
[null,0,{"$nulls":23},3.2,0,0,{"$nulls":3},3.2,{"$nulls":5},3.2,null,0,0,null,0,"2.6",null,null,"近接1",{"$nulls":3},0]
[null,1,{"$nulls":15},"追加","取付","片VV",22,1,"DV",1,null,4,1,1,"接替",1,null,4,1,"支槍取替","DV","1",null,4,1,1,1,"ケッチ",1,"3.2",1,1,"近接2",1,"遠隔",1,1]
[null,2,{"$nulls":13},2,2,"置換","取外","両VV",38,2,"IV",2,null,5,2,2,"無停",2,null,5,2,"受口変更","IV","2",null,5,2,2,2,"がいし",2,"22",2,2,"近接3",2,"離島",2,2]
[null,3,{"$nulls":13},3,null,"削除",null,"片IV",60,3,"OW",3,null,8,3,3,"接続",3,null,8,3,"一部取替","OW","3",null,8,3,3,3,"たるみ",3,"38",3,3,"近接4",3,"交通",3,3]
[null,4,{"$nulls":13},4,{"$nulls":3},"両IV",null,4,"VV",null,null,14,4,4,"切離",null,null,14,4,null,"VV",null,null,14,4,4,4,null,4,"60",4,4,"近接5",4,"遠隔交通",4,4]
[null,5,{"$nulls":13},5,{"$nulls":5},5,{"$nulls":3},22,5,5,{"$nulls":3},22,5,{"$nulls":4},22,5,5,5,null,5,"80上",5,5,"変台1",5,"離島交通",5,5]
[null,6,{"$nulls":13},6,{"$nulls":5},6,{"$nulls":3},38,6,6,{"$nulls":3},38,6,{"$nulls":4},38,6,6,6,null,6,"バインドレス",6,6,"変台2",6,null,6,6]
[null,7,{"$nulls":13},7,{"$nulls":5},7,{"$nulls":3},60,7,7,{"$nulls":3},60,7,{"$nulls":4},60,7,7,7,null,7,"DVラック",7,7,"変台3",7,null,7,7]
[null,8,{"$nulls":13},8,{"$nulls":5},8,{"$nulls":3},80,8,8,{"$nulls":3},80,8,{"$nulls":4},80,8,8,8,null,8,"引留白",8,8,"変台4",8,null,8,8]
[null,9,{"$nulls":13},9,{"$nulls":5},9,{"$nulls":3},100,9,9,{"$nulls":3},100,9,{"$nulls":4},100,9,9,9,null,9,"引留青",9,9,"変台5","9",null,9,9]

{"sheet":"マスタデータ2","index":12,"n_rows":75,"n_cols":6,"rows_kept":75,"hidden":true}
[]
[null,"VTB9438_引込線OCR用工事事業所_本番配電（VZDB）_HAIDENYY　参照"]
[null,"select * from VTB9438 order by JIGYO_CD"]
[null,"事業所CD","事業所CD上3桁","事業所CD下4桁","事業所略号1","事業所略号2"]
[null,"2101","210","0171","旭川支店　　　　","配電－１　　　　"]
[null,"2102","210","0172","旭川支店　　　　","配電－２　　　　"]
[null,"2103","210","0173","旭川支店　　　　","配電－３　　　　"]
[null,"2104","210","0174","旭川支店　　　　","配電－４　　　　"]
[null,"2111","211","0171","名寄ＮＷＣ　　　","配電－１　　　　"]
[null,"2112","211","0172","名寄ＮＷＣ　　　","配電－２　　　　"]
[null,"2120","212","0000","羽幌ＮＷＣ　　　","　　　　　　　　"]
[null,"2130","213","0170","稚内ＮＷＣ　　　","配電課　　　　　"]
[null,"2140","214","0170","留萌ＮＷＣ　　　","配電課　　　　　"]
[null,"2150","215","0170","浜頓別ＮＷＣ　　","配電課　　　　　"]
[null,"2160","216","0170","深川ＮＷＣ　　　","配電課　　　　　"]
[null,"2170","217","0000","天塩ＮＷＣ　　　","　　　　　　　　"]
[null,"2180","218","0170","富良野ＮＷＣ　　","配電課　　　　　"]
[null,"2501","250","0171","北見支店　　　　","配電－１　　　　"]
[null,"2502","250","0172","北見支店　　　　","配電－２　　　　"]
[null,"2503","250","0173","北見支店　　　　","配電－３　　　　"]
[null,"2520","252","0170","紋別ＮＷＣ　　　","配電課　　　　　"]
[null,"2540","254","0170","遠軽ＮＷＣ　　　","配電課　　　　　"]
[null,"2560","256","0170","網走ＮＷＣ　　　","配電課　　　　　"]
[null,"2580","258","0000","斜里ＮＷＣ　　　","　　　　　　　　"]
[null,"3101","310","0161","札幌支店　　　　","技術－１　　　　"]
[null,"3102","310","0162","札幌支店　　　　","技術－２　　　　"]
[null,"3111","311","0171","札幌北ＮＷＣ　　","配電－１　　　　"]
[null,"3112","311","0172","札幌北ＮＷＣ　　","配電－２　　　　"]
[null,"3131","313","0171","札幌西ＮＷＣ　　","配電－１　　　　"]
[null,"3132","313","0172","札幌西ＮＷＣ　　","配電－２　　　　"]
[null,"3151","315","0171","札幌東ＮＷＣ　　","配電－１　　　　"]
[null,"3152","315","0172","札幌東ＮＷＣ　　","配電－２　　　　"]
[null,"3171","317","0171","札幌南ＮＷＣ　　","配電－１　　　　"]
[null,"3172","317","0172","札幌南ＮＷＣ　　","配電－２　　　　"]
[null,"3190","319","0170","千歳ＮＷＣ　　　","配電課　　　　　"]
[null,"3301","330","0171","岩見沢支店　　　","配電－１　　　　"]
[null,"3302","330","0172","岩見沢支店　　　","配電－２　　　　"]
[null,"3303","330","0173","岩見沢支店　　　","配電－３　　　　"]
[null,"3320","332","0171","滝川ＮＷＣ　　　","配電－１　　　　"]
[null,"3340","334","0170","栗山ＮＷＣ　　　","配電課　　　　　"]
[null,"3501","350","0171","小樽支店　　　　","配電－１　　　　"]
[null,"3502","350","0172","小樽支店　　　　","配電－２　　　　"]
[null,"3503","350","0173","小樽支店　　　　","配電－３　　　　"]
[null,"3520","352","0170","余市ＮＷＣ　　　","配電課　　　　　"]
[null,"3540","354","0170","岩内ＮＷＣ　　　","配電課　　　　　"]
[null,"3560","356","0170","倶知安ＮＷＣ　　","配電課　　　　　"]
[null,"4101","410","0171","釧路支店　　　　","配電－１　　　　"]
[null,"4102","410","0172","釧路支店　　　　","配電－２　　　　"]
[null,"4103","410","0173","釧路支店　　　　","配電－３　　　　"]
[null,"4120","412","0170","中標津ＮＷＣ　　","配電課　　　　　"]
[null,"4140","414","0170","弟子屈ＮＷＣ　　","配電課　　　　　"]
[null,"4160","416","0170","根室ＮＷＣ　　　","配電課　　　　　"]
[null,"4301","430","0171","帯広支店　　　　","配電－１　　　　"]
[null,"4302","430","0172","帯広支店　　　　","配電－２　　　　"]
[null,"4303","430","0173","帯広支店　　　　","配電－３　　　　"]
[null,"4320","432","0000","新得ＮＷＣ　　　","　　　　　　　　"]
[null,"4340","434","0000","池田ＮＷＣ　　　","　　　　　　　　"]
[null,"4360","436","0000","大樹ＮＷＣ　　　","　　　　　　　　"]
[null,"4380","438","0000","足寄ＮＷＣ　　　","　　　　　　　　"]
[null,"5101","510","0171","室蘭支店　　　　","配電－１　　　　"]
[null,"5102","510","0172","室蘭支店　　　　","配電－２　　　　"]
[null,"5103","510","0173","室蘭支店　　　　","配電－３　　　　"]
[null,"5301","530","0171","苫小牧支店　　　","配電－１　　　　"]
[null,"5302","530","0172","苫小牧支店　　　","配電－２　　　　"]
[null,"5303","530","0173","苫小牧支店　　　","配電－３　　　　"]
[null,"5320","532","0170","富川ＮＷＣ　　　","配電課　　　　　"]
[null,"5340","534","0170","浦河ＮＷＣ　　　","配電課　　　　　"]
[null,"5350","535","0170","静内ＮＷＣ　　　","配電課　　　　　"]
[null,"6101","610","0171","函館支店　　　　","配電－１　　　　"]
[null,"6102","610","0172","函館支店　　　　","配電－２　　　　"]
[null,"6103","610","0173","函館支店　　　　","配電－３　　　　"]
[null,"6104","610","0174","函館支店　　　　","配電－４　　　　"]
[null,"6130","613","0170","八雲ＮＷＣ　　　","配電課　　　　　"]
[null,"6160","616","0170","江差ＮＷＣ　　　","配電課　　　　　"]
[null,"6180","618","0170","福島ＮＷＣ　　　","配電課　　　　　"]